BEGIN:VCALENDAR
VERSION:2.0
PRODID:-//Love INC of Allegan County - ECPv6.15.16//NONSGML v1.0//EN
CALSCALE:GREGORIAN
METHOD:PUBLISH
X-ORIGINAL-URL:https://loveincnwa.org
X-WR-CALDESC:Events for Love INC of Allegan County
REFRESH-INTERVAL;VALUE=DURATION:PT1H
X-Robots-Tag:noindex
X-PUBLISHED-TTL:PT1H
BEGIN:VTIMEZONE
TZID:UTC
BEGIN:STANDARD
TZOFFSETFROM:+0000
TZOFFSETTO:+0000
TZNAME:UTC
DTSTART:20230101T000000
END:STANDARD
END:VTIMEZONE
BEGIN:VEVENT
DTSTART;TZID=UTC:20241215T180000
DTEND;TZID=UTC:20241215T200000
DTSTAMP:20260423T120651
CREATED:20241125T152528Z
LAST-MODIFIED:20241125T152528Z
UID:10000729-1734285600-1734292800@loveincnwa.org
SUMMARY:Carols by Candlelight
DESCRIPTION:Join Allegan United Methodist Church for a night of music and fellowship. \n*Offering will benefit Hands of Grace Food Pantry.
URL:https://loveincnwa.org/event/carols-by-candlelight/
LOCATION:Allegan United Methodist Church\, 409 Trowbridge St\, Allegan\, MI\, 49010\, United States
ATTACH;FMTTYPE=image/png:https://loveincnwa.org/wp-content/uploads/2024/11/Allegan-UMC-Christmas.png
END:VEVENT
BEGIN:VEVENT
DTSTART;TZID=UTC:20241109T170000
DTEND;TZID=UTC:20241109T190000
DTSTAMP:20260423T120651
CREATED:20241021T142939Z
LAST-MODIFIED:20241021T142939Z
UID:10000725-1731171600-1731178800@loveincnwa.org
SUMMARY:Lasagna Dinner and Auction
DESCRIPTION:Join Allegan United Methodist Church for a delicious Lasagna Dinner and Auction to raise money for needed repairs and restoration on our church building! \n$10/plate donation suggested. \nMeal includes lasagna (hand-made\, on location)\, garlic bread\, salad\, desert\, and beverage. \nSilent Auction will take place throughout the night\, Live Auction will begin at 7pm.
URL:https://loveincnwa.org/event/lasagna-dinner-and-auction/
LOCATION:Allegan United Methodist Church\, 409 Trowbridge St\, Allegan\, MI\, 49010\, United States
ATTACH;FMTTYPE=image/jpeg:https://loveincnwa.org/wp-content/uploads/2024/10/Allegan-UMC-Lasagna-Dinner.jpg
END:VEVENT
END:VCALENDAR