BEGIN:VCALENDAR
VERSION:2.0
PRODID:-//Love INC of Allegan County - ECPv6.15.16//NONSGML v1.0//EN
CALSCALE:GREGORIAN
METHOD:PUBLISH
X-ORIGINAL-URL:https://loveincnwa.org
X-WR-CALDESC:Events for Love INC of Allegan County
REFRESH-INTERVAL;VALUE=DURATION:PT1H
X-Robots-Tag:noindex
X-PUBLISHED-TTL:PT1H
BEGIN:VTIMEZONE
TZID:UTC
BEGIN:STANDARD
TZOFFSETFROM:+0000
TZOFFSETTO:+0000
TZNAME:UTC
DTSTART:20220101T000000
END:STANDARD
END:VTIMEZONE
BEGIN:VEVENT
DTSTART;TZID=UTC:20231118T090000
DTEND;TZID=UTC:20231118T140000
DTSTAMP:20260423T182657
CREATED:20231030T164757Z
LAST-MODIFIED:20231030T164757Z
UID:10000174-1700298000-1700316000@loveincnwa.org
SUMMARY:Christ Community Church Bazaar
DESCRIPTION:Join Christ Community Church for a church bazaar! Items for sale include cookies/candies\, baked goods\, crafts\, frozen casseroles/soups\, canned goods\, and miscellaneous items like small appliances\, dishes\, figures\, etc. All proceeds benefit Love INC Allegan County!
URL:https://loveincnwa.org/event/christ-community-church-bazaar/
LOCATION:Christ Community Church of Allegan\, 3370 113th Ave\, Allegan\, MI\, 49010\, United States
ATTACH;FMTTYPE=image/jpeg:https://loveincnwa.org/wp-content/uploads/2023/10/Cookies.jpg
END:VEVENT
BEGIN:VEVENT
DTSTART;TZID=UTC:20231031T180000
DTEND;TZID=UTC:20231031T193000
DTSTAMP:20260423T182657
CREATED:20231005T172738Z
LAST-MODIFIED:20231005T172738Z
UID:10000170-1698775200-1698780600@loveincnwa.org
SUMMARY:Trunk or Treat at Christ Community Church of Allegan
DESCRIPTION:Join Christ Community Church on October 31 for their Trunk or Treat event!
URL:https://loveincnwa.org/event/trunk-or-treat-at-christ-community-church-of-allegan/
LOCATION:Christ Community Church of Allegan\, 3370 113th Ave\, Allegan\, MI\, 49010\, United States
ATTACH;FMTTYPE=image/jpeg:https://loveincnwa.org/wp-content/uploads/2023/10/Christ-Community-Church-Trunk-or-Treat.jpg
END:VEVENT
END:VCALENDAR