BEGIN:VCALENDAR
VERSION:2.0
PRODID:-//Love INC of Allegan County - ECPv6.15.16//NONSGML v1.0//EN
CALSCALE:GREGORIAN
METHOD:PUBLISH
X-ORIGINAL-URL:https://loveincnwa.org
X-WR-CALDESC:Events for Love INC of Allegan County
REFRESH-INTERVAL;VALUE=DURATION:PT1H
X-Robots-Tag:noindex
X-PUBLISHED-TTL:PT1H
BEGIN:VTIMEZONE
TZID:UTC
BEGIN:STANDARD
TZOFFSETFROM:+0000
TZOFFSETTO:+0000
TZNAME:UTC
DTSTART:20230101T000000
END:STANDARD
END:VTIMEZONE
BEGIN:VEVENT
DTSTART;TZID=UTC:20240725T180000
DTEND;TZID=UTC:20240725T203000
DTSTAMP:20260423T164719
CREATED:20240516T162549Z
LAST-MODIFIED:20240516T162549Z
UID:10000649-1721930400-1721939400@loveincnwa.org
SUMMARY:Camp Firelight VBS
DESCRIPTION:Join Hamilton Area Churches at Hamilton Reformed Church for our Camp Firelight VBS on July 23-25. We are looking for volunteers and kids ages 3 years (potty trained) to 4th grade (in the fall) to come and have fun!
URL:https://loveincnwa.org/event/camp-firelight-vbs/2024-07-25/
LOCATION:Hamilton Reformed Church\, 3554 Lincoln Rd\, Hamilton\, MI\, 49419\, United States
ATTACH;FMTTYPE=image/jpeg:https://loveincnwa.org/wp-content/uploads/2024/05/Hamilton-Reformed-Church-VBS.jpg
END:VEVENT
BEGIN:VEVENT
DTSTART;TZID=UTC:20240724T180000
DTEND;TZID=UTC:20240724T203000
DTSTAMP:20260423T164719
CREATED:20240516T162549Z
LAST-MODIFIED:20240516T162549Z
UID:10000648-1721844000-1721853000@loveincnwa.org
SUMMARY:Camp Firelight VBS
DESCRIPTION:Join Hamilton Area Churches at Hamilton Reformed Church for our Camp Firelight VBS on July 23-25. We are looking for volunteers and kids ages 3 years (potty trained) to 4th grade (in the fall) to come and have fun!
URL:https://loveincnwa.org/event/camp-firelight-vbs/2024-07-24/
LOCATION:Hamilton Reformed Church\, 3554 Lincoln Rd\, Hamilton\, MI\, 49419\, United States
ATTACH;FMTTYPE=image/jpeg:https://loveincnwa.org/wp-content/uploads/2024/05/Hamilton-Reformed-Church-VBS.jpg
END:VEVENT
BEGIN:VEVENT
DTSTART;TZID=UTC:20240723T180000
DTEND;TZID=UTC:20240723T203000
DTSTAMP:20260423T164719
CREATED:20240516T162549Z
LAST-MODIFIED:20240516T162549Z
UID:10000647-1721757600-1721766600@loveincnwa.org
SUMMARY:Camp Firelight VBS
DESCRIPTION:Join Hamilton Area Churches at Hamilton Reformed Church for our Camp Firelight VBS on July 23-25. We are looking for volunteers and kids ages 3 years (potty trained) to 4th grade (in the fall) to come and have fun!
URL:https://loveincnwa.org/event/camp-firelight-vbs/2024-07-23/
LOCATION:Hamilton Reformed Church\, 3554 Lincoln Rd\, Hamilton\, MI\, 49419\, United States
ATTACH;FMTTYPE=image/jpeg:https://loveincnwa.org/wp-content/uploads/2024/05/Hamilton-Reformed-Church-VBS.jpg
END:VEVENT
END:VCALENDAR