BEGIN:VCALENDAR
VERSION:2.0
PRODID:-//Love INC of Allegan County - ECPv6.15.16//NONSGML v1.0//EN
CALSCALE:GREGORIAN
METHOD:PUBLISH
X-WR-CALNAME:Love INC of Allegan County
X-ORIGINAL-URL:https://loveincnwa.org
X-WR-CALDESC:Events for Love INC of Allegan County
REFRESH-INTERVAL;VALUE=DURATION:PT1H
X-Robots-Tag:noindex
X-PUBLISHED-TTL:PT1H
BEGIN:VTIMEZONE
TZID:UTC
BEGIN:STANDARD
TZOFFSETFROM:+0000
TZOFFSETTO:+0000
TZNAME:UTC
DTSTART:20220101T000000
END:STANDARD
END:VTIMEZONE
BEGIN:VEVENT
DTSTART;TZID=UTC:20231216T070000
DTEND;TZID=UTC:20231216T170000
DTSTAMP:20260423T165038
CREATED:20231130T194545Z
LAST-MODIFIED:20231130T194545Z
UID:10000179-1702710000-1702746000@loveincnwa.org
SUMMARY:7th Annual Winter Solstice 99
DESCRIPTION:Home Team Disc Golf welcomes you to their 7th annual Winter Solstice 99 at Jaycee Park in Allegan\, MI. 99 holes of disc golf on nearly the shortest day of the year! Entry fee is food donations. They have chosen the The Allegan County Community Foundation – Allegan County Food Pantry Collaborative (ACFPC) as their charity to donate food to for those in need over the holiday season.\n\nRegister on DGS with a comment: \n\nCome by to donate food. If you’re not playing the full 99 holes\, you can disc a few rounds\, donate food\, and watch a few holes.\n\n*Players will be playing a couple of modifications to a regular round and birdie or par ONLY! This means if you don’t hit your birdie\, you just pick up your disc and move on to the next shot or hole with a 3. The first four rounds of 9\, every player will throw two shots on each hole and play them both out. The final 3 rounds of 9 will be one shot off the tee per hole (if light allows).
URL:https://loveincnwa.org/event/wintersolstice99/
LOCATION:Jaycee Park\, 200 Monroe St\, Allegan\, MI\, 49010\, United States
ATTACH;FMTTYPE=image/jpeg:https://loveincnwa.org/wp-content/uploads/2023/11/99-Holes-for-Charity.jpg
END:VEVENT
END:VCALENDAR