BEGIN:VCALENDAR
VERSION:2.0
PRODID:-//Love INC of Allegan County - ECPv6.15.16//NONSGML v1.0//EN
CALSCALE:GREGORIAN
METHOD:PUBLISH
X-WR-CALNAME:Love INC of Allegan County
X-ORIGINAL-URL:https://loveincnwa.org
X-WR-CALDESC:Events for Love INC of Allegan County
REFRESH-INTERVAL;VALUE=DURATION:PT1H
X-Robots-Tag:noindex
X-PUBLISHED-TTL:PT1H
BEGIN:VTIMEZONE
TZID:UTC
BEGIN:STANDARD
TZOFFSETFROM:+0000
TZOFFSETTO:+0000
TZNAME:UTC
DTSTART:20230101T000000
END:STANDARD
END:VTIMEZONE
BEGIN:VEVENT
DTSTART;TZID=UTC:20241031T170000
DTEND;TZID=UTC:20241031T190000
DTSTAMP:20260423T111042
CREATED:20241021T142327Z
LAST-MODIFIED:20241021T142327Z
UID:10000724-1730394000-1730401200@loveincnwa.org
SUMMARY:Immanuel Lutheran Church Trunk or Treat
DESCRIPTION:Outside in good weather\, inside in bad weather. Join Immanuel Lutheran Church for a trunk or treat. All are welcome.
URL:https://loveincnwa.org/event/immanuel-lutheran-church-trunk-or-treat/
LOCATION:Immanuel Lutheran Church\, 631 Grand St\, Allegan\, MI\, 49010\, United States
ATTACH;FMTTYPE=image/jpeg:https://loveincnwa.org/wp-content/uploads/2024/10/Immanuel-Lutheran-Trunk-or-Treat.jpg
END:VEVENT
END:VCALENDAR