BEGIN:VCALENDAR
VERSION:2.0
PRODID:-//Love INC of Allegan County - ECPv6.15.16//NONSGML v1.0//EN
CALSCALE:GREGORIAN
METHOD:PUBLISH
X-ORIGINAL-URL:https://loveincnwa.org
X-WR-CALDESC:Events for Love INC of Allegan County
REFRESH-INTERVAL;VALUE=DURATION:PT1H
X-Robots-Tag:noindex
X-PUBLISHED-TTL:PT1H
BEGIN:VTIMEZONE
TZID:UTC
BEGIN:STANDARD
TZOFFSETFROM:+0000
TZOFFSETTO:+0000
TZNAME:UTC
DTSTART:20220101T000000
END:STANDARD
END:VTIMEZONE
BEGIN:VEVENT
DTSTART;TZID=UTC:20231031T170000
DTEND;TZID=UTC:20231031T190000
DTSTAMP:20260423T203431
CREATED:20231005T185547Z
LAST-MODIFIED:20231005T185547Z
UID:10000171-1698771600-1698778800@loveincnwa.org
SUMMARY:Fall Fest at LifeChange Community Church
DESCRIPTION:Join LifeChange Community Church for free hot dogs\, candy\, carnival games\, and much more! Spend your entire evening at this family-friendly event\, or just stop by as you’re trick-or-treating your way through Burnips!
URL:https://loveincnwa.org/event/fall-fest-at-lifechange-community-church/
LOCATION:LifeChange Community Church\, 3014 Newell St\, Dorr\, MI\, 49323\, United States
ATTACH;FMTTYPE=image/jpeg:https://loveincnwa.org/wp-content/uploads/2023/10/LifeChange-Fall-Fest.jpg
END:VEVENT
END:VCALENDAR