BEGIN:VCALENDAR
VERSION:2.0
PRODID:-//Love INC of Allegan County - ECPv6.15.16//NONSGML v1.0//EN
CALSCALE:GREGORIAN
METHOD:PUBLISH
X-ORIGINAL-URL:https://loveincnwa.org
X-WR-CALDESC:Events for Love INC of Allegan County
REFRESH-INTERVAL;VALUE=DURATION:PT1H
X-Robots-Tag:noindex
X-PUBLISHED-TTL:PT1H
BEGIN:VTIMEZONE
TZID:UTC
BEGIN:STANDARD
TZOFFSETFROM:+0000
TZOFFSETTO:+0000
TZNAME:UTC
DTSTART:20230101T000000
END:STANDARD
END:VTIMEZONE
BEGIN:VEVENT
DTSTART;TZID=UTC:20251111T180000
DTEND;TZID=UTC:20251111T190000
DTSTAMP:20260423T032020
CREATED:20241125T155621Z
LAST-MODIFIED:20241125T155621Z
UID:10000734-1762884000-1762887600@loveincnwa.org
SUMMARY:Love INC 101
DESCRIPTION:Considering Volunteering with Love INC? \nJoin us for our Love INC 101 training. Together\, we’ll cover the mission of Love INC and highlight the volunteer areas: store\, office and LIFE Skills. No commitment to volunteering is necessary at the time of this training\, we simply just want to give you the chance to learn more. \nClick here to register. \nWe hope to see you there! \n*Venue TBD.
URL:https://loveincnwa.org/event/love-inc-101-5/2025-11-11/
CATEGORIES:Love INC Training
ATTACH;FMTTYPE=image/png:https://loveincnwa.org/wp-content/uploads/2024/08/Email-Headers-6.png
END:VEVENT
BEGIN:VEVENT
DTSTART;TZID=UTC:20250930T130000
DTEND;TZID=UTC:20250930T143000
DTSTAMP:20260423T032020
CREATED:20250916T171855Z
LAST-MODIFIED:20250916T171855Z
UID:10000740-1759237200-1759242600@loveincnwa.org
SUMMARY:Love INC Mentor Training
DESCRIPTION:Mentors in our LIFE Skills program commit to building a relationship with a participant of the program for at least 12 months and participate in educational courses with them as a mutual learner. They pray\, eat\, share\, spend time\, assist in setting goals\, etc. with that participant regularly. \nAre you a follower of Jesus with a passion to see low-income people grow spiritually and economically? Are you a motivated learner\, servant\, and encourager with experience in applying biblical principles to your personal life? Join us for Mentor Training! \nClick here to register. \n*Location TBD.
URL:https://loveincnwa.org/event/love-inc-mentor-training-3-4/
CATEGORIES:Love INC Training
ATTACH;FMTTYPE=image/png:https://loveincnwa.org/wp-content/uploads/2024/05/Mentor-Training-Email-Header.png
END:VEVENT
BEGIN:VEVENT
DTSTART;TZID=UTC:20250927T160000
DTEND;TZID=UTC:20250927T190000
DTSTAMP:20260423T032020
CREATED:20250508T191550Z
LAST-MODIFIED:20250508T192313Z
UID:10000761-1758988800-1758999600@loveincnwa.org
SUMMARY:Love INC Allegan County's 25th Anniversary Celebration
DESCRIPTION:Join us for dinner\, yard games\, kids’ activities\, prizes\, shopping\, and more as we celebrate 25 years of God’s faithfulness in our community through the ministry of Love In the Name of Christ! Dinner will be available\, beginning at 5pm. Our Heart to Heart Resale Store will be open for shopping for the duration of the event.\n\nClick here to RSVP.
URL:https://loveincnwa.org/event/25years/
LOCATION:Love INC Allegan County\, 4621 135th Avenue\, Hamilton\, MI\, 49419\, United States
ATTACH;FMTTYPE=image/png:https://loveincnwa.org/wp-content/uploads/2025/05/Facebook-Cover-Photos-1920-x-1005-px.png
END:VEVENT
BEGIN:VEVENT
DTSTART;TZID=UTC:20250909T130000
DTEND;TZID=UTC:20250909T140000
DTSTAMP:20260423T032020
CREATED:20241125T155621Z
LAST-MODIFIED:20241125T155621Z
UID:10000733-1757422800-1757426400@loveincnwa.org
SUMMARY:Love INC 101
DESCRIPTION:Considering Volunteering with Love INC? \nJoin us for our Love INC 101 training. Together\, we’ll cover the mission of Love INC and highlight the volunteer areas: store\, office and LIFE Skills. No commitment to volunteering is necessary at the time of this training\, we simply just want to give you the chance to learn more. \nClick here to register. \nWe hope to see you there! \n*Venue TBD.
URL:https://loveincnwa.org/event/love-inc-101-5/2025-09-09/
CATEGORIES:Love INC Training
ATTACH;FMTTYPE=image/png:https://loveincnwa.org/wp-content/uploads/2024/08/Email-Headers-6.png
END:VEVENT
BEGIN:VEVENT
DTSTART;TZID=UTC:20250825T180000
DTEND;TZID=UTC:20250825T200000
DTSTAMP:20260423T032020
CREATED:20241125T155943Z
LAST-MODIFIED:20250123T174437Z
UID:10000736-1756144800-1756152000@loveincnwa.org
SUMMARY:Poverty + The Church Introductory Study
DESCRIPTION:Join us for a 2-hour study on Ruby Payne and Bill Ehlig’s book\, What Every Church Member Should Know about Poverty. Together\, we will engage in discussion on how the mindset of those in poverty differs from those in middle class and wealth. We will also discuss how we can work together and what this means moving forward on an equal footing with each other. Join Jean Eding (middle class) and Sharon Owens (poverty) as they share how they built a positive relationship\, resulting in building their God-given potentials on both sides. \nClick here to register. \n*Location TBD.
URL:https://loveincnwa.org/event/poverty-the-church-introductory-study-5/2025-08-25/
CATEGORIES:Love INC Training
ATTACH;FMTTYPE=image/png:https://loveincnwa.org/wp-content/uploads/2023/09/a-2-hour-introductory-study-with-Love-INC-Allegan-County.png
END:VEVENT
BEGIN:VEVENT
DTSTART;TZID=UTC:20250624T180000
DTEND;TZID=UTC:20250624T193000
DTSTAMP:20260423T032020
CREATED:20241125T160423Z
LAST-MODIFIED:20250120T145515Z
UID:10000739-1750788000-1750793400@loveincnwa.org
SUMMARY:Love INC Mentor Training
DESCRIPTION:Mentors in our LIFE Skills program commit to building a relationship with a participant of the program for at least 12 months and participate in educational courses with them as a mutual learner. They pray\, eat\, share\, spend time\, assist in setting goals\, etc. with that participant regularly. \nAre you a follower of Jesus with a passion to see low-income people grow spiritually and economically? Are you a motivated learner\, servant\, and encourager with experience in applying biblical principles to your personal life? Join us for Mentor Training! \nClick here to register. \n*Location TBD.
URL:https://loveincnwa.org/event/love-inc-mentor-training-3/2025-06-24/
CATEGORIES:Love INC Training
ATTACH;FMTTYPE=image/png:https://loveincnwa.org/wp-content/uploads/2024/05/Mentor-Training-Email-Header.png
END:VEVENT
BEGIN:VEVENT
DTSTART;TZID=UTC:20250609T180000
DTEND;TZID=UTC:20250609T190000
DTSTAMP:20260423T032020
CREATED:20241125T155621Z
LAST-MODIFIED:20241125T155621Z
UID:10000732-1749492000-1749495600@loveincnwa.org
SUMMARY:Love INC 101
DESCRIPTION:Considering Volunteering with Love INC? \nJoin us for our Love INC 101 training. Together\, we’ll cover the mission of Love INC and highlight the volunteer areas: store\, office and LIFE Skills. No commitment to volunteering is necessary at the time of this training\, we simply just want to give you the chance to learn more. \nClick here to register. \nWe hope to see you there! \n*Venue TBD.
URL:https://loveincnwa.org/event/love-inc-101-5/2025-06-09/
CATEGORIES:Love INC Training
ATTACH;FMTTYPE=image/png:https://loveincnwa.org/wp-content/uploads/2024/08/Email-Headers-6.png
END:VEVENT
BEGIN:VEVENT
DTSTART;TZID=UTC:20250426T093000
DTEND;TZID=UTC:20250426T140000
DTSTAMP:20260423T032020
CREATED:20250414T151729Z
LAST-MODIFIED:20250414T152239Z
UID:10000757-1745659800-1745676000@loveincnwa.org
SUMMARY:Heart to Heart Bonus Saturday + Hungry For Christ Fundraiser
DESCRIPTION:All proceeds from the Heart to Heart Resale Store\, a ministry of Love In the Name of Christ usually help support the ministry of Love INC\, a network of 29 churches in Allegan County who partner together to serve our community.\n\nBut this year\, as we invite you to “love your neighbor” by bringing some of the most frequently requested items from our pantries to the store for donation\, we’re also going to “love our neighbor” with a Bonus Saturday – an additional day for you to shop\, and a moment for us to donate all proceeds of that Bonus Saturday to our neighbors at Hungry For Christ Food Ministries!\n\nBe sure to stop in and shop Saturday\, April 26\, 9:30am-2pm!
URL:https://loveincnwa.org/event/heart-to-heart-bonus-saturday-hungry-for-christ-fundraiser/
LOCATION:Heart to Heart Resale Store\, 4621 135th Ave\, Hamilton\, MI\, 49419\, United States
ATTACH;FMTTYPE=image/png:https://loveincnwa.org/wp-content/uploads/2025/04/Store-Social-Posts-8.png
END:VEVENT
BEGIN:VEVENT
DTSTART;TZID=UTC:20250414T130000
DTEND;TZID=UTC:20250414T143000
DTSTAMP:20260423T032020
CREATED:20250303T185409Z
LAST-MODIFIED:20250303T185432Z
UID:10000741-1744635600-1744641000@loveincnwa.org
SUMMARY:Love INC Mentor Training
DESCRIPTION:Mentors in our LIFE Skills Program commit to building a relationship with a participant of the program for at least 12 months and participate in educational courses with them as a mutual learner. They pray\, eat\, share\, spend time\, assist in setting goals\, etc. with that participant regularly. \nAre you a follower of Jesus with a passion to see low-income people grow spiritually and economically? Are you a motivated learner\, servant\, and encourager with experience in applying biblical principles to your personal life? Join us for Mentor Training! \nClick here to register.
URL:https://loveincnwa.org/event/love-inc-mentor-training-3-3/
LOCATION:Love INC Allegan County Community Room\, 4621 135th Street\, Hamilton\, MI\, 49419\, United States
CATEGORIES:Love INC Training
ATTACH;FMTTYPE=image/png:https://loveincnwa.org/wp-content/uploads/2024/05/Mentor-Training-Email-Header.png
END:VEVENT
BEGIN:VEVENT
DTSTART;TZID=UTC:20250304T130000
DTEND;TZID=UTC:20250304T140000
DTSTAMP:20260423T032020
CREATED:20241125T155621Z
LAST-MODIFIED:20241125T155621Z
UID:10000731-1741093200-1741096800@loveincnwa.org
SUMMARY:Love INC 101
DESCRIPTION:Considering Volunteering with Love INC? \nJoin us for our Love INC 101 training. Together\, we’ll cover the mission of Love INC and highlight the volunteer areas: store\, office and LIFE Skills. No commitment to volunteering is necessary at the time of this training\, we simply just want to give you the chance to learn more. \nClick here to register. \nWe hope to see you there! \n*Venue TBD.
URL:https://loveincnwa.org/event/love-inc-101-5/2025-03-04/
CATEGORIES:Love INC Training
ATTACH;FMTTYPE=image/png:https://loveincnwa.org/wp-content/uploads/2024/08/Email-Headers-6.png
END:VEVENT
BEGIN:VEVENT
DTSTART;TZID=UTC:20250217T180000
DTEND;TZID=UTC:20250217T200000
DTSTAMP:20260423T032020
CREATED:20250128T154051Z
LAST-MODIFIED:20250128T154051Z
UID:10000742-1739815200-1739822400@loveincnwa.org
SUMMARY:Poverty + The Church Introductory Study
DESCRIPTION:Join us for a 2-hour study on Ruby Payne and Bill Ehlig’s book\, What Every Church Member Should Know about Poverty. Together\, we will engage in discussion on how the mindset of those in poverty differs from those in middle class and wealth. We will also discuss how we can work together and what this means moving forward on an equal footing with each other. Join Jean Eding (middle class) and Sharon Owens (poverty) as they share how they built a positive relationship\, resulting in building their God-given potentials on both sides. \nClick here to register.
URL:https://loveincnwa.org/event/poverty-the-church-introductory-study-5-2/
LOCATION:Christ Community Church of Allegan\, 3370 113th Ave\, Allegan\, MI\, 49010\, United States
CATEGORIES:Love INC Training
ATTACH;FMTTYPE=image/png:https://loveincnwa.org/wp-content/uploads/2023/09/a-2-hour-introductory-study-with-Love-INC-Allegan-County.png
END:VEVENT
BEGIN:VEVENT
DTSTART;TZID=UTC:20250114T180000
DTEND;TZID=UTC:20250114T193000
DTSTAMP:20260423T032020
CREATED:20241216T200408Z
LAST-MODIFIED:20241216T200409Z
UID:10000737-1736877600-1736883000@loveincnwa.org
SUMMARY:Love INC Mentor Training
DESCRIPTION:Mentors in our LIFE Skills program commit to building a relationship with a participant of the program for at least 12 months and participate in educational courses with them as a mutual learner. They pray\, eat\, share\, spend time\, assist in setting goals\, etc. with that participant regularly. \nAre you a follower of Jesus with a passion to see low-income people grow spiritually and economically? Are you a motivated learner\, servant\, and encourager with experience in applying biblical principles to your personal life? Join us for Mentor Training! \nClick here to register.
URL:https://loveincnwa.org/event/love-inc-mentor-training-3-2/
LOCATION:Love INC Allegan County Community Room\, 4621 135th Street\, Hamilton\, MI\, 49419\, United States
CATEGORIES:Love INC Training
ATTACH;FMTTYPE=image/png:https://loveincnwa.org/wp-content/uploads/2024/05/Mentor-Training-Email-Header.png
END:VEVENT
BEGIN:VEVENT
DTSTART;TZID=UTC:20241209T180000
DTEND;TZID=UTC:20241209T190000
DTSTAMP:20260423T032020
CREATED:20241111T192121Z
LAST-MODIFIED:20241125T160621Z
UID:10000727-1733767200-1733770800@loveincnwa.org
SUMMARY:Love INC 101
DESCRIPTION:Considering Volunteering with Love INC?\nJoin us for our Love INC 101 training on Monday\, December 9 at 6pm . Together\, we’ll cover the mission of Love INC and highlight the volunteer areas: store\, office and LIFE Skills. No commitment to volunteering is necessary at the time of this training\, we simply just want to give you the chance to learn more. \nClick here to register. \nWe hope to see you there!
URL:https://loveincnwa.org/event/love-inc-101-4/
LOCATION:Allegan Bible Church\, 412 Sherman St\, Allegan\, MI\, 49010\, United States
CATEGORIES:Love INC Training
ATTACH;FMTTYPE=image/png:https://loveincnwa.org/wp-content/uploads/2024/08/Email-Headers-6.png
END:VEVENT
BEGIN:VEVENT
DTSTART;TZID=UTC:20241207T093000
DTEND;TZID=UTC:20241207T140000
DTSTAMP:20260423T032020
CREATED:20231005T150954Z
LAST-MODIFIED:20240530T191630Z
UID:10000665-1733563800-1733580000@loveincnwa.org
SUMMARY:Heart to Heart First Saturday
DESCRIPTION:Shop the first Saturday of each month at our Heart to Heart Resale Store\, 9:30am-2pm. Follow us on Facebook to get updates on additional pop-up days for shopping and/or donations.
URL:https://loveincnwa.org/event/pop-up-heart-to-heart-resale-store-day/2024-12-07/
LOCATION:Heart to Heart Resale Store\, 4621 135th Ave\, Hamilton\, MI\, 49419\, United States
ATTACH;FMTTYPE=image/png:https://loveincnwa.org/wp-content/uploads/2023/10/Store-Facebook-Cover-Photo-6.png
END:VEVENT
BEGIN:VEVENT
DTSTART;TZID=UTC:20241116T093000
DTEND;TZID=UTC:20241116T140000
DTSTAMP:20260423T032020
CREATED:20240518T155651Z
LAST-MODIFIED:20240518T155651Z
UID:10000682-1731749400-1731765600@loveincnwa.org
SUMMARY:Heart to Heart Extra Saturday
DESCRIPTION:Join us for an extra Saturday at our Heart to Heart Resale Store as we approach the holiday season! Follow us on Facebook to get updates on additional pop-up days for shopping and/or donations.
URL:https://loveincnwa.org/event/heart-to-heart-extra-saturday/2024-11-16/
LOCATION:Heart to Heart Resale Store\, 4621 135th Ave\, Hamilton\, MI\, 49419\, United States
ATTACH;FMTTYPE=image/png:https://loveincnwa.org/wp-content/uploads/2023/10/Store-Facebook-Cover-Photo-6.png
END:VEVENT
BEGIN:VEVENT
DTSTART;TZID=UTC:20241104T180000
DTEND;TZID=UTC:20241104T200000
DTSTAMP:20260423T032020
CREATED:20241010T183438Z
LAST-MODIFIED:20241125T160716Z
UID:10000721-1730743200-1730750400@loveincnwa.org
SUMMARY:Poverty + The Church Introductory Study
DESCRIPTION:Join us for a 2-hour study on Ruby Payne and Bill Ehlig’s book\, What Every Church Member Should Know about Poverty. Together\, we will engage in discussion on how the mindset of those in poverty differs from those in middle class and wealth. We will also discuss how we can work together and what this means moving forward on an equal footing with each other. Join Jean Eding (middle class) and Sharon Owens (poverty) as they share how they built a positive relationship\, resulting in building their God-given potentials on both sides. \nClick here to register.
URL:https://loveincnwa.org/event/poverty-the-church-introductory-study-4/
LOCATION:Dunningville Reformed Church\, 2559 Lincoln Rd\, Allegan\, MI\, 49010\, United States
CATEGORIES:Love INC Training
ATTACH;FMTTYPE=image/png:https://loveincnwa.org/wp-content/uploads/2023/09/a-2-hour-introductory-study-with-Love-INC-Allegan-County.png
END:VEVENT
BEGIN:VEVENT
DTSTART;TZID=UTC:20241102T093000
DTEND;TZID=UTC:20241102T140000
DTSTAMP:20260423T032020
CREATED:20231005T150954Z
LAST-MODIFIED:20240530T191630Z
UID:10000664-1730539800-1730556000@loveincnwa.org
SUMMARY:Heart to Heart First Saturday
DESCRIPTION:Shop the first Saturday of each month at our Heart to Heart Resale Store\, 9:30am-2pm. Follow us on Facebook to get updates on additional pop-up days for shopping and/or donations.
URL:https://loveincnwa.org/event/pop-up-heart-to-heart-resale-store-day/2024-11-02/
LOCATION:Heart to Heart Resale Store\, 4621 135th Ave\, Hamilton\, MI\, 49419\, United States
ATTACH;FMTTYPE=image/png:https://loveincnwa.org/wp-content/uploads/2023/10/Store-Facebook-Cover-Photo-6.png
END:VEVENT
BEGIN:VEVENT
DTSTART;TZID=UTC:20241019T093000
DTEND;TZID=UTC:20241019T140000
DTSTAMP:20260423T032020
CREATED:20240518T155651Z
LAST-MODIFIED:20240518T155651Z
UID:10000681-1729330200-1729346400@loveincnwa.org
SUMMARY:Heart to Heart Extra Saturday
DESCRIPTION:Join us for an extra Saturday at our Heart to Heart Resale Store as we approach the holiday season! Follow us on Facebook to get updates on additional pop-up days for shopping and/or donations.
URL:https://loveincnwa.org/event/heart-to-heart-extra-saturday/2024-10-19/
LOCATION:Heart to Heart Resale Store\, 4621 135th Ave\, Hamilton\, MI\, 49419\, United States
ATTACH;FMTTYPE=image/png:https://loveincnwa.org/wp-content/uploads/2023/10/Store-Facebook-Cover-Photo-6.png
END:VEVENT
BEGIN:VEVENT
DTSTART;TZID=UTC:20241014T180000
DTEND;TZID=UTC:20241014T190000
DTSTAMP:20260423T032020
CREATED:20240826T170456Z
LAST-MODIFIED:20241125T160622Z
UID:10000715-1728928800-1728932400@loveincnwa.org
SUMMARY:Love INC 101
DESCRIPTION:Considering Volunteering with Love INC?\nJoin us for our Love INC 101 training on Monday\, October 14 at 6pm . Together\, we’ll cover the mission of Love INC and highlight the volunteer areas: store\, office and LIFE Skills. No commitment to volunteering is necessary at the time of this training\, we simply just want to give you the chance to learn more. \nClick here to register. \nWe hope to see you there!
URL:https://loveincnwa.org/event/love-inc-101-3/
LOCATION:Love INC Allegan County Community Room\, 4621 135th Street\, Hamilton\, MI\, 49419\, United States
CATEGORIES:Love INC Training
ATTACH;FMTTYPE=image/png:https://loveincnwa.org/wp-content/uploads/2024/08/Email-Headers-6.png
END:VEVENT
BEGIN:VEVENT
DTSTART;TZID=UTC:20241005T093000
DTEND;TZID=UTC:20241005T140000
DTSTAMP:20260423T032020
CREATED:20231005T150954Z
LAST-MODIFIED:20240530T191630Z
UID:10000663-1728120600-1728136800@loveincnwa.org
SUMMARY:Heart to Heart First Saturday
DESCRIPTION:Shop the first Saturday of each month at our Heart to Heart Resale Store\, 9:30am-2pm. Follow us on Facebook to get updates on additional pop-up days for shopping and/or donations.
URL:https://loveincnwa.org/event/pop-up-heart-to-heart-resale-store-day/2024-10-05/
LOCATION:Heart to Heart Resale Store\, 4621 135th Ave\, Hamilton\, MI\, 49419\, United States
ATTACH;FMTTYPE=image/png:https://loveincnwa.org/wp-content/uploads/2023/10/Store-Facebook-Cover-Photo-6.png
END:VEVENT
BEGIN:VEVENT
DTSTART;TZID=UTC:20240923T180000
DTEND;TZID=UTC:20240923T193000
DTSTAMP:20260423T032020
CREATED:20240909T190147Z
LAST-MODIFIED:20241125T160753Z
UID:10000716-1727114400-1727119800@loveincnwa.org
SUMMARY:Love INC Mentor Training
DESCRIPTION:Are you a follower of Jesus with a passion to see low-income people grow spiritually and economically? Are you a motivated learner\, servant\, and encourager with experience in applying biblical principles to your personal life? \nLove INC is in need of mentors for our Thursday night LIFE Skills program who can: \n\nattend and participate in educational courses as a mutual learner with a participant of the program\ncommit to building a relationship with a participant for at least 12 months.\npray\, eat\, share\, spend time\, assist in setting goals\, etc. with a participant regularly.\n\nClick here to register to join us Monday\, September 23 at 6pm at the Love INC office for our Mentor Training.
URL:https://loveincnwa.org/event/love-inc-mentor-training-2/
LOCATION:Love INC Allegan County Community Room\, 4621 135th Street\, Hamilton\, MI\, 49419\, United States
CATEGORIES:Love INC Training
ATTACH;FMTTYPE=image/png:https://loveincnwa.org/wp-content/uploads/2024/05/Mentor-Training-Email-Header.png
END:VEVENT
BEGIN:VEVENT
DTSTART;TZID=UTC:20240907T093000
DTEND;TZID=UTC:20240907T140000
DTSTAMP:20260423T032020
CREATED:20231005T150954Z
LAST-MODIFIED:20240530T191630Z
UID:10000662-1725701400-1725717600@loveincnwa.org
SUMMARY:Heart to Heart First Saturday
DESCRIPTION:Shop the first Saturday of each month at our Heart to Heart Resale Store\, 9:30am-2pm. Follow us on Facebook to get updates on additional pop-up days for shopping and/or donations.
URL:https://loveincnwa.org/event/pop-up-heart-to-heart-resale-store-day/2024-09-07/
LOCATION:Heart to Heart Resale Store\, 4621 135th Ave\, Hamilton\, MI\, 49419\, United States
ATTACH;FMTTYPE=image/png:https://loveincnwa.org/wp-content/uploads/2023/10/Store-Facebook-Cover-Photo-6.png
END:VEVENT
BEGIN:VEVENT
DTSTART;TZID=UTC:20240827T180000
DTEND;TZID=UTC:20240827T200000
DTSTAMP:20260423T032020
CREATED:20240708T151953Z
LAST-MODIFIED:20241125T160716Z
UID:10000701-1724781600-1724788800@loveincnwa.org
SUMMARY:Poverty + The Church Introductory Study
DESCRIPTION:Join us for a 2-hour study on Ruby Payne and Bill Ehlig’s book\, What Every Church Member Should Know about Poverty. Together\, we will engage in discussion on how the mindset of those in poverty differs from those in middle class and wealth. We will also discuss how we can work together and what this means moving forward on an equal footing with each other. Join Jean Eding (middle class) and Sharon Owens (poverty) as they share how they built a positive relationship\, resulting in building their God-given potentials on both sides. \nClick here to register.
URL:https://loveincnwa.org/event/poverty-the-church-introductory-study-3/2024-08-27/
LOCATION:Cultivate Church\, 4872 136th Ave\, Hamilton\, 49419\, United States
CATEGORIES:Love INC Training
ATTACH;FMTTYPE=image/png:https://loveincnwa.org/wp-content/uploads/2023/09/a-2-hour-introductory-study-with-Love-INC-Allegan-County.png
END:VEVENT
BEGIN:VEVENT
DTSTART;TZID=UTC:20240826T100000
DTEND;TZID=UTC:20240826T120000
DTSTAMP:20260423T032020
CREATED:20240708T151953Z
LAST-MODIFIED:20241125T160716Z
UID:10000700-1724666400-1724673600@loveincnwa.org
SUMMARY:Poverty + The Church Introductory Study
DESCRIPTION:Join us for a 2-hour study on Ruby Payne and Bill Ehlig’s book\, What Every Church Member Should Know about Poverty. Together\, we will engage in discussion on how the mindset of those in poverty differs from those in middle class and wealth. We will also discuss how we can work together and what this means moving forward on an equal footing with each other. Join Jean Eding (middle class) and Sharon Owens (poverty) as they share how they built a positive relationship\, resulting in building their God-given potentials on both sides. \nClick here to register.
URL:https://loveincnwa.org/event/poverty-the-church-introductory-study-3/2024-08-26/
LOCATION:Cultivate Church\, 4872 136th Ave\, Hamilton\, 49419\, United States
CATEGORIES:Love INC Training
ATTACH;FMTTYPE=image/png:https://loveincnwa.org/wp-content/uploads/2023/09/a-2-hour-introductory-study-with-Love-INC-Allegan-County.png
END:VEVENT
BEGIN:VEVENT
DTSTART;TZID=UTC:20240808T093000
DTEND;TZID=UTC:20240808T170000
DTSTAMP:20260423T032020
CREATED:20240711T141923Z
LAST-MODIFIED:20240711T141923Z
UID:10000708-1723109400-1723136400@loveincnwa.org
SUMMARY:$1 Clothing Sale
DESCRIPTION:Missed the sale last week at Heart to Heart Resale Store\, a ministry of Love In the Name of Christ? Stop into the store this week for $1 clothing! Shop with us August 6\, 7\, or 8 from 9:30am to 5pm. All proceeds support the work we’re doing here at Love INC.
URL:https://loveincnwa.org/event/1-clothing-sale-2/2024-08-08/
LOCATION:Heart to Heart Resale Store\, 4621 135th Ave\, Hamilton\, MI\, 49419\, United States
ATTACH;FMTTYPE=image/png:https://loveincnwa.org/wp-content/uploads/2024/07/1-dollar-clothing.png
END:VEVENT
BEGIN:VEVENT
DTSTART;TZID=UTC:20240807T093000
DTEND;TZID=UTC:20240807T170000
DTSTAMP:20260423T032020
CREATED:20240711T141923Z
LAST-MODIFIED:20240711T141923Z
UID:10000707-1723023000-1723050000@loveincnwa.org
SUMMARY:$1 Clothing Sale
DESCRIPTION:Missed the sale last week at Heart to Heart Resale Store\, a ministry of Love In the Name of Christ? Stop into the store this week for $1 clothing! Shop with us August 6\, 7\, or 8 from 9:30am to 5pm. All proceeds support the work we’re doing here at Love INC.
URL:https://loveincnwa.org/event/1-clothing-sale-2/2024-08-07/
LOCATION:Heart to Heart Resale Store\, 4621 135th Ave\, Hamilton\, MI\, 49419\, United States
ATTACH;FMTTYPE=image/png:https://loveincnwa.org/wp-content/uploads/2024/07/1-dollar-clothing.png
END:VEVENT
BEGIN:VEVENT
DTSTART;TZID=UTC:20240806T093000
DTEND;TZID=UTC:20240806T170000
DTSTAMP:20260423T032020
CREATED:20240711T141923Z
LAST-MODIFIED:20240711T141923Z
UID:10000706-1722936600-1722963600@loveincnwa.org
SUMMARY:$1 Clothing Sale
DESCRIPTION:Missed the sale last week at Heart to Heart Resale Store\, a ministry of Love In the Name of Christ? Stop into the store this week for $1 clothing! Shop with us August 6\, 7\, or 8 from 9:30am to 5pm. All proceeds support the work we’re doing here at Love INC.
URL:https://loveincnwa.org/event/1-clothing-sale-2/2024-08-06/
LOCATION:Heart to Heart Resale Store\, 4621 135th Ave\, Hamilton\, MI\, 49419\, United States
ATTACH;FMTTYPE=image/png:https://loveincnwa.org/wp-content/uploads/2024/07/1-dollar-clothing.png
END:VEVENT
BEGIN:VEVENT
DTSTART;TZID=UTC:20240803T093000
DTEND;TZID=UTC:20240803T140000
DTSTAMP:20260423T032020
CREATED:20240711T141548Z
LAST-MODIFIED:20240711T141548Z
UID:10000705-1722677400-1722693600@loveincnwa.org
SUMMARY:Half Price Clothing Sale
DESCRIPTION:Be sure to stop into Heart to Heart Resale Store\, a ministry of Love In the Name of Christ this week for our half price clothing sale! Shop with us July 30\, 31\, or August 1 from 9:30am to 5pm or Saturday\, August 3 from 9:30am-2pm. All proceeds support the work we’re doing here at Love INC.
URL:https://loveincnwa.org/event/half-price-clothing-sale-2/2024-08-03/
LOCATION:Heart to Heart Resale Store\, 4621 135th Ave\, Hamilton\, MI\, 49419\, United States
ATTACH;FMTTYPE=image/png:https://loveincnwa.org/wp-content/uploads/2024/07/Half-price-clothing.png
END:VEVENT
BEGIN:VEVENT
DTSTART;TZID=UTC:20240803T093000
DTEND;TZID=UTC:20240803T140000
DTSTAMP:20260423T032020
CREATED:20231005T150954Z
LAST-MODIFIED:20240530T191630Z
UID:10000661-1722677400-1722693600@loveincnwa.org
SUMMARY:Heart to Heart First Saturday
DESCRIPTION:Shop the first Saturday of each month at our Heart to Heart Resale Store\, 9:30am-2pm. Follow us on Facebook to get updates on additional pop-up days for shopping and/or donations.
URL:https://loveincnwa.org/event/pop-up-heart-to-heart-resale-store-day/2024-08-03/
LOCATION:Heart to Heart Resale Store\, 4621 135th Ave\, Hamilton\, MI\, 49419\, United States
ATTACH;FMTTYPE=image/png:https://loveincnwa.org/wp-content/uploads/2023/10/Store-Facebook-Cover-Photo-6.png
END:VEVENT
BEGIN:VEVENT
DTSTART;TZID=UTC:20240801T093000
DTEND;TZID=UTC:20240801T170000
DTSTAMP:20260423T032020
CREATED:20240711T141548Z
LAST-MODIFIED:20240711T141548Z
UID:10000704-1722504600-1722531600@loveincnwa.org
SUMMARY:Half Price Clothing Sale
DESCRIPTION:Be sure to stop into Heart to Heart Resale Store\, a ministry of Love In the Name of Christ this week for our half price clothing sale! Shop with us July 30\, 31\, or August 1 from 9:30am to 5pm or Saturday\, August 3 from 9:30am-2pm. All proceeds support the work we’re doing here at Love INC.
URL:https://loveincnwa.org/event/half-price-clothing-sale-2/2024-08-01/
LOCATION:Heart to Heart Resale Store\, 4621 135th Ave\, Hamilton\, MI\, 49419\, United States
ATTACH;FMTTYPE=image/png:https://loveincnwa.org/wp-content/uploads/2024/07/Half-price-clothing.png
END:VEVENT
END:VCALENDAR