BEGIN:VCALENDAR
VERSION:2.0
PRODID:-//Love INC of Allegan County - ECPv6.15.16//NONSGML v1.0//EN
CALSCALE:GREGORIAN
METHOD:PUBLISH
X-WR-CALNAME:Love INC of Allegan County
X-ORIGINAL-URL:https://loveincnwa.org
X-WR-CALDESC:Events for Love INC of Allegan County
REFRESH-INTERVAL;VALUE=DURATION:PT1H
X-Robots-Tag:noindex
X-PUBLISHED-TTL:PT1H
BEGIN:VTIMEZONE
TZID:UTC
BEGIN:STANDARD
TZOFFSETFROM:+0000
TZOFFSETTO:+0000
TZNAME:UTC
DTSTART:20220101T000000
END:STANDARD
END:VTIMEZONE
BEGIN:VEVENT
DTSTART;TZID=UTC:20230710T180000
DTEND;TZID=UTC:20230710T201500
DTSTAMP:20260422T213658
CREATED:20230615T205309Z
LAST-MODIFIED:20230615T205309Z
UID:10000087-1689012000-1689020100@loveincnwa.org
SUMMARY:Stellar VBS
DESCRIPTION:Launch kids on a cosmic quest where they’ll have a blast shining Jesus’ light to the world. Kids ages 4 years through 5th grade are invited to join Overisel Reformed Church for a STELLAR VBS. “Stellar” rockets kids on an out-of-this-world adventure that’s light years of faith-building fun. Click here to register.
URL:https://loveincnwa.org/event/stellar-vbs/2023-07-10/
LOCATION:Overisel Reformed Church\, 4706 142nd Ave\, Holland\, 49423\, United States
ATTACH;FMTTYPE=image/jpeg:https://loveincnwa.org/wp-content/uploads/2023/06/2023-Stellar-VBS-Website-Graphic-Square.jpg
END:VEVENT
END:VCALENDAR