BEGIN:VCALENDAR
VERSION:2.0
PRODID:-//Love INC of Allegan County - ECPv6.15.16//NONSGML v1.0//EN
CALSCALE:GREGORIAN
METHOD:PUBLISH
X-WR-CALNAME:Love INC of Allegan County
X-ORIGINAL-URL:https://loveincnwa.org
X-WR-CALDESC:Events for Love INC of Allegan County
REFRESH-INTERVAL;VALUE=DURATION:PT1H
X-Robots-Tag:noindex
X-PUBLISHED-TTL:PT1H
BEGIN:VTIMEZONE
TZID:UTC
BEGIN:STANDARD
TZOFFSETFROM:+0000
TZOFFSETTO:+0000
TZNAME:UTC
DTSTART:20220101T000000
END:STANDARD
END:VTIMEZONE
BEGIN:VEVENT
DTSTART;TZID=UTC:20230817T170000
DTEND;TZID=UTC:20230817T190000
DTSTAMP:20260423T133345
CREATED:20230809T144510Z
LAST-MODIFIED:20230809T144510Z
UID:10000121-1692291600-1692298800@loveincnwa.org
SUMMARY:Haircuts and Hotdogs
DESCRIPTION:Free basic haircuts by licensed cosmetologists from local salons for any school-aged child plus hotdogs and other refreshments for the family.
URL:https://loveincnwa.org/event/haircuts-and-hotdogs/
LOCATION:Episcopal Church of the Good Shepherd\, 101 N Walnut St\, Allegan\, MI\, 49010\, United States
ATTACH;FMTTYPE=image/jpeg:https://loveincnwa.org/wp-content/uploads/2023/08/Haircuts.jpg
END:VEVENT
END:VCALENDAR