BEGIN:VCALENDAR
VERSION:2.0
PRODID:-//Love INC of Allegan County - ECPv6.15.16//NONSGML v1.0//EN
CALSCALE:GREGORIAN
METHOD:PUBLISH
X-ORIGINAL-URL:https://loveincnwa.org
X-WR-CALDESC:Events for Love INC of Allegan County
REFRESH-INTERVAL;VALUE=DURATION:PT1H
X-Robots-Tag:noindex
X-PUBLISHED-TTL:PT1H
BEGIN:VTIMEZONE
TZID:UTC
BEGIN:STANDARD
TZOFFSETFROM:+0000
TZOFFSETTO:+0000
TZNAME:UTC
DTSTART:20220101T000000
END:STANDARD
END:VTIMEZONE
BEGIN:VEVENT
DTSTART;TZID=UTC:20250625T180000
DTEND;TZID=UTC:20250625T203000
DTSTAMP:20260423T030047
CREATED:20250528T182553Z
LAST-MODIFIED:20250528T182553Z
UID:10000764-1750874400-1750883400@loveincnwa.org
SUMMARY:Kingdom Kids Vacation Bible School
DESCRIPTION:Join The River Church for Kingdom Kids Vacation Bible School for kids aged 5 through 5th grade.  \n6-8:30 pm on June 23\, 24 and 25.
URL:https://loveincnwa.org/event/kingdom-kids-vacation-bible-school/2025-06-25/
LOCATION:The River Church\, 1652 Lincoln Road\, Allegan\, MI\, 49010\, United States
ATTACH;FMTTYPE=image/jpeg:https://loveincnwa.org/wp-content/uploads/2025/05/River-Church-VBS.jpg
END:VEVENT
BEGIN:VEVENT
DTSTART;TZID=UTC:20250624T180000
DTEND;TZID=UTC:20250624T203000
DTSTAMP:20260423T030047
CREATED:20250528T182553Z
LAST-MODIFIED:20250528T182553Z
UID:10000763-1750788000-1750797000@loveincnwa.org
SUMMARY:Kingdom Kids Vacation Bible School
DESCRIPTION:Join The River Church for Kingdom Kids Vacation Bible School for kids aged 5 through 5th grade.  \n6-8:30 pm on June 23\, 24 and 25.
URL:https://loveincnwa.org/event/kingdom-kids-vacation-bible-school/2025-06-24/
LOCATION:The River Church\, 1652 Lincoln Road\, Allegan\, MI\, 49010\, United States
ATTACH;FMTTYPE=image/jpeg:https://loveincnwa.org/wp-content/uploads/2025/05/River-Church-VBS.jpg
END:VEVENT
BEGIN:VEVENT
DTSTART;TZID=UTC:20250623T180000
DTEND;TZID=UTC:20250623T203000
DTSTAMP:20260423T030047
CREATED:20250528T182553Z
LAST-MODIFIED:20250528T182553Z
UID:10000762-1750701600-1750710600@loveincnwa.org
SUMMARY:Kingdom Kids Vacation Bible School
DESCRIPTION:Join The River Church for Kingdom Kids Vacation Bible School for kids aged 5 through 5th grade.  \n6-8:30 pm on June 23\, 24 and 25.
URL:https://loveincnwa.org/event/kingdom-kids-vacation-bible-school/2025-06-23/
LOCATION:The River Church\, 1652 Lincoln Road\, Allegan\, MI\, 49010\, United States
ATTACH;FMTTYPE=image/jpeg:https://loveincnwa.org/wp-content/uploads/2025/05/River-Church-VBS.jpg
END:VEVENT
BEGIN:VEVENT
DTSTART;TZID=UTC:20230712T180000
DTEND;TZID=UTC:20230712T203000
DTSTAMP:20260423T030047
CREATED:20230628T190100Z
LAST-MODIFIED:20230628T190100Z
UID:10000093-1689184800-1689193800@loveincnwa.org
SUMMARY:SonSpark Labs VBS
DESCRIPTION:At SonSpark Labs\, explorers will find their imaginations spark to life as they research answers to universal questions by delving into scientific wonders of the present and even looking beyond – to an infinite future! Kids entering Kindergarten through 5th grade are invited to VBS at The River Church in Allegan! Click here to register.
URL:https://loveincnwa.org/event/sonsparklabsvbs/2023-07-12/
LOCATION:The River Church\, 1652 Lincoln Road\, Allegan\, MI\, 49010\, United States
ATTACH;FMTTYPE=image/jpeg:https://loveincnwa.org/wp-content/uploads/2023/06/VBSCrew.jpg
END:VEVENT
BEGIN:VEVENT
DTSTART;TZID=UTC:20230711T180000
DTEND;TZID=UTC:20230711T203000
DTSTAMP:20260423T030047
CREATED:20230628T190100Z
LAST-MODIFIED:20230628T190100Z
UID:10000092-1689098400-1689107400@loveincnwa.org
SUMMARY:SonSpark Labs VBS
DESCRIPTION:At SonSpark Labs\, explorers will find their imaginations spark to life as they research answers to universal questions by delving into scientific wonders of the present and even looking beyond – to an infinite future! Kids entering Kindergarten through 5th grade are invited to VBS at The River Church in Allegan! Click here to register.
URL:https://loveincnwa.org/event/sonsparklabsvbs/2023-07-11/
LOCATION:The River Church\, 1652 Lincoln Road\, Allegan\, MI\, 49010\, United States
ATTACH;FMTTYPE=image/jpeg:https://loveincnwa.org/wp-content/uploads/2023/06/VBSCrew.jpg
END:VEVENT
BEGIN:VEVENT
DTSTART;TZID=UTC:20230710T180000
DTEND;TZID=UTC:20230710T203000
DTSTAMP:20260423T030047
CREATED:20230628T190100Z
LAST-MODIFIED:20230628T190100Z
UID:10000091-1689012000-1689021000@loveincnwa.org
SUMMARY:SonSpark Labs VBS
DESCRIPTION:At SonSpark Labs\, explorers will find their imaginations spark to life as they research answers to universal questions by delving into scientific wonders of the present and even looking beyond – to an infinite future! Kids entering Kindergarten through 5th grade are invited to VBS at The River Church in Allegan! Click here to register.
URL:https://loveincnwa.org/event/sonsparklabsvbs/2023-07-10/
LOCATION:The River Church\, 1652 Lincoln Road\, Allegan\, MI\, 49010\, United States
ATTACH;FMTTYPE=image/jpeg:https://loveincnwa.org/wp-content/uploads/2023/06/VBSCrew.jpg
END:VEVENT
END:VCALENDAR