BEGIN:VCALENDAR
VERSION:2.0
PRODID:-//Love INC of Allegan County - ECPv6.15.16//NONSGML v1.0//EN
CALSCALE:GREGORIAN
METHOD:PUBLISH
X-ORIGINAL-URL:https://loveincnwa.org
X-WR-CALDESC:Events for Love INC of Allegan County
REFRESH-INTERVAL;VALUE=DURATION:PT1H
X-Robots-Tag:noindex
X-PUBLISHED-TTL:PT1H
BEGIN:VTIMEZONE
TZID:UTC
BEGIN:STANDARD
TZOFFSETFROM:+0000
TZOFFSETTO:+0000
TZNAME:UTC
DTSTART:20220101T000000
END:STANDARD
END:VTIMEZONE
BEGIN:VEVENT
DTSTART;TZID=UTC:20230818T120000
DTEND;TZID=UTC:20230818T163000
DTSTAMP:20260423T132307
CREATED:20230808T204250Z
LAST-MODIFIED:20230808T204250Z
UID:10000120-1692360000-1692376200@loveincnwa.org
SUMMARY:Free Expungement Fair & Resource Clinic
DESCRIPTION:Allegan & Van Buren Public Defender’s Office is partnering with the Michigan Attorney General’s Office and Safe & Just Michigan to present a free Expungement Fair & Resource Clinic in the Zimmerman Room at the Allegan County Human Services Building. This is free to any Michigan resident. Please bring Federal or State-Issued ID\, driver’s license\, or birth certificate for proof of identity. The Fair will include attorneys to help eligible attendees complete paperwork\, volunteer notaries\, finger-print scan\, and information on next steps after the application is completed and mailed. Preregistration is not required.
URL:https://loveincnwa.org/event/free-expungement-fair-resource-clinic/
LOCATION:Allegan County Human Services Building\, 3255 122nd Ave\, Allegan\, MI\, 49010\, United States
ATTACH;FMTTYPE=image/jpeg:https://loveincnwa.org/wp-content/uploads/2023/08/Expungement.jpg
END:VEVENT
END:VCALENDAR