BEGIN:VCALENDAR
VERSION:2.0
PRODID:-//Love INC of Allegan County - ECPv6.15.16//NONSGML v1.0//EN
CALSCALE:GREGORIAN
METHOD:PUBLISH
X-WR-CALNAME:Love INC of Allegan County
X-ORIGINAL-URL:https://loveincnwa.org
X-WR-CALDESC:Events for Love INC of Allegan County
REFRESH-INTERVAL;VALUE=DURATION:PT1H
X-Robots-Tag:noindex
X-PUBLISHED-TTL:PT1H
BEGIN:VTIMEZONE
TZID:UTC
BEGIN:STANDARD
TZOFFSETFROM:+0000
TZOFFSETTO:+0000
TZNAME:UTC
DTSTART:20220101T000000
END:STANDARD
END:VTIMEZONE
BEGIN:VEVENT
DTSTART;TZID=UTC:20250620T180000
DTEND;TZID=UTC:20250620T210000
DTSTAMP:20260423T054801
CREATED:20250528T184128Z
LAST-MODIFIED:20250528T184128Z
UID:10000772-1750442400-1750453200@loveincnwa.org
SUMMARY:Camp of Champs
DESCRIPTION:Join Allegan Bible Church for a free\, 5 day-camp designed to help kids build lasting friendships and grow in character qualities like teamwork\, discipline\, and servant-heartedness. \nAt camp\, kids will learn the basics of soccer from real coaches and soccer players\, enjoy fun games\, and get personal encouragement from supportive leaders. They will also learn about God’s Word and be shown how to apply it to their lives. Because our mission at ABC Youth Ministries is to take kids from lost to leading for the glory of God\, Camp of Champs is totally free. We are excited to get to know your kids and invest in them this summer! For more info call (269) 673-6831.
URL:https://loveincnwa.org/event/camp-of-champs-3/2025-06-20/
LOCATION:Allegan Sports Complex\, 1451 29th St\, Allegan\, MI\, 49010\, United States
ATTACH;FMTTYPE=image/jpeg:https://loveincnwa.org/wp-content/uploads/2025/05/Camp-of-Champs-25.jpg
END:VEVENT
BEGIN:VEVENT
DTSTART;TZID=UTC:20250619T180000
DTEND;TZID=UTC:20250619T210000
DTSTAMP:20260423T054801
CREATED:20250528T184128Z
LAST-MODIFIED:20250528T184128Z
UID:10000771-1750356000-1750366800@loveincnwa.org
SUMMARY:Camp of Champs
DESCRIPTION:Join Allegan Bible Church for a free\, 5 day-camp designed to help kids build lasting friendships and grow in character qualities like teamwork\, discipline\, and servant-heartedness. \nAt camp\, kids will learn the basics of soccer from real coaches and soccer players\, enjoy fun games\, and get personal encouragement from supportive leaders. They will also learn about God’s Word and be shown how to apply it to their lives. Because our mission at ABC Youth Ministries is to take kids from lost to leading for the glory of God\, Camp of Champs is totally free. We are excited to get to know your kids and invest in them this summer! For more info call (269) 673-6831.
URL:https://loveincnwa.org/event/camp-of-champs-3/2025-06-19/
LOCATION:Allegan Sports Complex\, 1451 29th St\, Allegan\, MI\, 49010\, United States
ATTACH;FMTTYPE=image/jpeg:https://loveincnwa.org/wp-content/uploads/2025/05/Camp-of-Champs-25.jpg
END:VEVENT
BEGIN:VEVENT
DTSTART;TZID=UTC:20250618T180000
DTEND;TZID=UTC:20250618T210000
DTSTAMP:20260423T054801
CREATED:20250528T184128Z
LAST-MODIFIED:20250528T184128Z
UID:10000770-1750269600-1750280400@loveincnwa.org
SUMMARY:Camp of Champs
DESCRIPTION:Join Allegan Bible Church for a free\, 5 day-camp designed to help kids build lasting friendships and grow in character qualities like teamwork\, discipline\, and servant-heartedness. \nAt camp\, kids will learn the basics of soccer from real coaches and soccer players\, enjoy fun games\, and get personal encouragement from supportive leaders. They will also learn about God’s Word and be shown how to apply it to their lives. Because our mission at ABC Youth Ministries is to take kids from lost to leading for the glory of God\, Camp of Champs is totally free. We are excited to get to know your kids and invest in them this summer! For more info call (269) 673-6831.
URL:https://loveincnwa.org/event/camp-of-champs-3/2025-06-18/
LOCATION:Allegan Sports Complex\, 1451 29th St\, Allegan\, MI\, 49010\, United States
ATTACH;FMTTYPE=image/jpeg:https://loveincnwa.org/wp-content/uploads/2025/05/Camp-of-Champs-25.jpg
END:VEVENT
BEGIN:VEVENT
DTSTART;TZID=UTC:20250617T180000
DTEND;TZID=UTC:20250617T210000
DTSTAMP:20260423T054801
CREATED:20250528T184128Z
LAST-MODIFIED:20250528T184128Z
UID:10000769-1750183200-1750194000@loveincnwa.org
SUMMARY:Camp of Champs
DESCRIPTION:Join Allegan Bible Church for a free\, 5 day-camp designed to help kids build lasting friendships and grow in character qualities like teamwork\, discipline\, and servant-heartedness. \nAt camp\, kids will learn the basics of soccer from real coaches and soccer players\, enjoy fun games\, and get personal encouragement from supportive leaders. They will also learn about God’s Word and be shown how to apply it to their lives. Because our mission at ABC Youth Ministries is to take kids from lost to leading for the glory of God\, Camp of Champs is totally free. We are excited to get to know your kids and invest in them this summer! For more info call (269) 673-6831.
URL:https://loveincnwa.org/event/camp-of-champs-3/2025-06-17/
LOCATION:Allegan Sports Complex\, 1451 29th St\, Allegan\, MI\, 49010\, United States
ATTACH;FMTTYPE=image/jpeg:https://loveincnwa.org/wp-content/uploads/2025/05/Camp-of-Champs-25.jpg
END:VEVENT
BEGIN:VEVENT
DTSTART;TZID=UTC:20250616T180000
DTEND;TZID=UTC:20250616T210000
DTSTAMP:20260423T054801
CREATED:20250528T184128Z
LAST-MODIFIED:20250528T184128Z
UID:10000768-1750096800-1750107600@loveincnwa.org
SUMMARY:Camp of Champs
DESCRIPTION:Join Allegan Bible Church for a free\, 5 day-camp designed to help kids build lasting friendships and grow in character qualities like teamwork\, discipline\, and servant-heartedness. \nAt camp\, kids will learn the basics of soccer from real coaches and soccer players\, enjoy fun games\, and get personal encouragement from supportive leaders. They will also learn about God’s Word and be shown how to apply it to their lives. Because our mission at ABC Youth Ministries is to take kids from lost to leading for the glory of God\, Camp of Champs is totally free. We are excited to get to know your kids and invest in them this summer! For more info call (269) 673-6831.
URL:https://loveincnwa.org/event/camp-of-champs-3/2025-06-16/
LOCATION:Allegan Sports Complex\, 1451 29th St\, Allegan\, MI\, 49010\, United States
ATTACH;FMTTYPE=image/jpeg:https://loveincnwa.org/wp-content/uploads/2025/05/Camp-of-Champs-25.jpg
END:VEVENT
BEGIN:VEVENT
DTSTART;TZID=UTC:20240613T180000
DTEND;TZID=UTC:20240613T210000
DTSTAMP:20260423T054801
CREATED:20240602T001925Z
LAST-MODIFIED:20240602T001925Z
UID:10000699-1718301600-1718312400@loveincnwa.org
SUMMARY:Camp of Champs
DESCRIPTION:Allegan Bible Church is hosting a free\, 4 day-camp designed to help kids build lasting friendships and grow in character qualities like teamwork\, discipline\, and servant-heartedness. At camp\, kids will learn the basics of soccer from real coaches and soccer players\, enjoy crazy games\, and get personal encouragement from supportive leaders. They will also learn about God’s Word and be shown how to apply it to their lives. Because our mission at ABC Youth Ministries is to take kids from lost to leading for the glory of God\, Camp of Champs is totally free. Camp will run each day from 6-9pm at the Allegan Sports Complex 1451 29th St\, Allegan\, MI 49010. We are excited to get to know your kids and invest in them this summer! \nRegister
URL:https://loveincnwa.org/event/camp-of-champs-2/2024-06-13/
LOCATION:Allegan Sports Complex\, 1451 29th St\, Allegan\, MI\, 49010\, United States
ATTACH;FMTTYPE=image/png:https://loveincnwa.org/wp-content/uploads/2024/06/Camp-of-Champs.png
END:VEVENT
BEGIN:VEVENT
DTSTART;TZID=UTC:20240612T180000
DTEND;TZID=UTC:20240612T210000
DTSTAMP:20260423T054801
CREATED:20240602T001925Z
LAST-MODIFIED:20240602T001925Z
UID:10000698-1718215200-1718226000@loveincnwa.org
SUMMARY:Camp of Champs
DESCRIPTION:Allegan Bible Church is hosting a free\, 4 day-camp designed to help kids build lasting friendships and grow in character qualities like teamwork\, discipline\, and servant-heartedness. At camp\, kids will learn the basics of soccer from real coaches and soccer players\, enjoy crazy games\, and get personal encouragement from supportive leaders. They will also learn about God’s Word and be shown how to apply it to their lives. Because our mission at ABC Youth Ministries is to take kids from lost to leading for the glory of God\, Camp of Champs is totally free. Camp will run each day from 6-9pm at the Allegan Sports Complex 1451 29th St\, Allegan\, MI 49010. We are excited to get to know your kids and invest in them this summer! \nRegister
URL:https://loveincnwa.org/event/camp-of-champs-2/2024-06-12/
LOCATION:Allegan Sports Complex\, 1451 29th St\, Allegan\, MI\, 49010\, United States
ATTACH;FMTTYPE=image/png:https://loveincnwa.org/wp-content/uploads/2024/06/Camp-of-Champs.png
END:VEVENT
BEGIN:VEVENT
DTSTART;TZID=UTC:20240611T180000
DTEND;TZID=UTC:20240611T210000
DTSTAMP:20260423T054801
CREATED:20240602T001925Z
LAST-MODIFIED:20240602T001925Z
UID:10000697-1718128800-1718139600@loveincnwa.org
SUMMARY:Camp of Champs
DESCRIPTION:Allegan Bible Church is hosting a free\, 4 day-camp designed to help kids build lasting friendships and grow in character qualities like teamwork\, discipline\, and servant-heartedness. At camp\, kids will learn the basics of soccer from real coaches and soccer players\, enjoy crazy games\, and get personal encouragement from supportive leaders. They will also learn about God’s Word and be shown how to apply it to their lives. Because our mission at ABC Youth Ministries is to take kids from lost to leading for the glory of God\, Camp of Champs is totally free. Camp will run each day from 6-9pm at the Allegan Sports Complex 1451 29th St\, Allegan\, MI 49010. We are excited to get to know your kids and invest in them this summer! \nRegister
URL:https://loveincnwa.org/event/camp-of-champs-2/2024-06-11/
LOCATION:Allegan Sports Complex\, 1451 29th St\, Allegan\, MI\, 49010\, United States
ATTACH;FMTTYPE=image/png:https://loveincnwa.org/wp-content/uploads/2024/06/Camp-of-Champs.png
END:VEVENT
BEGIN:VEVENT
DTSTART;TZID=UTC:20240610T180000
DTEND;TZID=UTC:20240610T210000
DTSTAMP:20260423T054801
CREATED:20240602T001925Z
LAST-MODIFIED:20240602T001925Z
UID:10000696-1718042400-1718053200@loveincnwa.org
SUMMARY:Camp of Champs
DESCRIPTION:Allegan Bible Church is hosting a free\, 4 day-camp designed to help kids build lasting friendships and grow in character qualities like teamwork\, discipline\, and servant-heartedness. At camp\, kids will learn the basics of soccer from real coaches and soccer players\, enjoy crazy games\, and get personal encouragement from supportive leaders. They will also learn about God’s Word and be shown how to apply it to their lives. Because our mission at ABC Youth Ministries is to take kids from lost to leading for the glory of God\, Camp of Champs is totally free. Camp will run each day from 6-9pm at the Allegan Sports Complex 1451 29th St\, Allegan\, MI 49010. We are excited to get to know your kids and invest in them this summer! \nRegister
URL:https://loveincnwa.org/event/camp-of-champs-2/2024-06-10/
LOCATION:Allegan Sports Complex\, 1451 29th St\, Allegan\, MI\, 49010\, United States
ATTACH;FMTTYPE=image/png:https://loveincnwa.org/wp-content/uploads/2024/06/Camp-of-Champs.png
END:VEVENT
BEGIN:VEVENT
DTSTART;TZID=UTC:20230629T180000
DTEND;TZID=UTC:20230629T210000
DTSTAMP:20260423T054801
CREATED:20230601T155213Z
LAST-MODIFIED:20230601T155213Z
UID:10000061-1688061600-1688072400@loveincnwa.org
SUMMARY:Camp of Champs
DESCRIPTION:Allegan Bible Church is hosting a free\, 4 day-camp designed to help kids build lasting friendships and grow in character qualities like teamwork\, discipline\, and servant-heartedness. At camp\, kids will learn the basics of soccer from real coaches and soccer players\, enjoy crazy games\, and get personal encouragement from supportive leaders. They will also learn about God’s Word and be shown how to apply it to their lives. Because their mission at ABC Youth Ministries is to take kids from lost to leading for the glory of God\, Camp of Champs is totally free. \nRegister
URL:https://loveincnwa.org/event/camp-of-champs/2023-06-29/
LOCATION:Allegan Sports Complex\, 1451 29th St\, Allegan\, MI\, 49010\, United States
ATTACH;FMTTYPE=image/jpeg:https://loveincnwa.org/wp-content/uploads/2023/06/LoveINCAlleganCounty_Community-Events_Camp-of-Champs.jpg
END:VEVENT
BEGIN:VEVENT
DTSTART;TZID=UTC:20230628T180000
DTEND;TZID=UTC:20230628T210000
DTSTAMP:20260423T054801
CREATED:20230601T155213Z
LAST-MODIFIED:20230601T155213Z
UID:10000060-1687975200-1687986000@loveincnwa.org
SUMMARY:Camp of Champs
DESCRIPTION:Allegan Bible Church is hosting a free\, 4 day-camp designed to help kids build lasting friendships and grow in character qualities like teamwork\, discipline\, and servant-heartedness. At camp\, kids will learn the basics of soccer from real coaches and soccer players\, enjoy crazy games\, and get personal encouragement from supportive leaders. They will also learn about God’s Word and be shown how to apply it to their lives. Because their mission at ABC Youth Ministries is to take kids from lost to leading for the glory of God\, Camp of Champs is totally free. \nRegister
URL:https://loveincnwa.org/event/camp-of-champs/2023-06-28/
LOCATION:Allegan Sports Complex\, 1451 29th St\, Allegan\, MI\, 49010\, United States
ATTACH;FMTTYPE=image/jpeg:https://loveincnwa.org/wp-content/uploads/2023/06/LoveINCAlleganCounty_Community-Events_Camp-of-Champs.jpg
END:VEVENT
BEGIN:VEVENT
DTSTART;TZID=UTC:20230627T180000
DTEND;TZID=UTC:20230627T210000
DTSTAMP:20260423T054801
CREATED:20230601T155213Z
LAST-MODIFIED:20230601T155213Z
UID:10000059-1687888800-1687899600@loveincnwa.org
SUMMARY:Camp of Champs
DESCRIPTION:Allegan Bible Church is hosting a free\, 4 day-camp designed to help kids build lasting friendships and grow in character qualities like teamwork\, discipline\, and servant-heartedness. At camp\, kids will learn the basics of soccer from real coaches and soccer players\, enjoy crazy games\, and get personal encouragement from supportive leaders. They will also learn about God’s Word and be shown how to apply it to their lives. Because their mission at ABC Youth Ministries is to take kids from lost to leading for the glory of God\, Camp of Champs is totally free. \nRegister
URL:https://loveincnwa.org/event/camp-of-champs/2023-06-27/
LOCATION:Allegan Sports Complex\, 1451 29th St\, Allegan\, MI\, 49010\, United States
ATTACH;FMTTYPE=image/jpeg:https://loveincnwa.org/wp-content/uploads/2023/06/LoveINCAlleganCounty_Community-Events_Camp-of-Champs.jpg
END:VEVENT
BEGIN:VEVENT
DTSTART;TZID=UTC:20230626T180000
DTEND;TZID=UTC:20230626T210000
DTSTAMP:20260423T054801
CREATED:20230601T155213Z
LAST-MODIFIED:20230601T155213Z
UID:10000058-1687802400-1687813200@loveincnwa.org
SUMMARY:Camp of Champs
DESCRIPTION:Allegan Bible Church is hosting a free\, 4 day-camp designed to help kids build lasting friendships and grow in character qualities like teamwork\, discipline\, and servant-heartedness. At camp\, kids will learn the basics of soccer from real coaches and soccer players\, enjoy crazy games\, and get personal encouragement from supportive leaders. They will also learn about God’s Word and be shown how to apply it to their lives. Because their mission at ABC Youth Ministries is to take kids from lost to leading for the glory of God\, Camp of Champs is totally free. \nRegister
URL:https://loveincnwa.org/event/camp-of-champs/2023-06-26/
LOCATION:Allegan Sports Complex\, 1451 29th St\, Allegan\, MI\, 49010\, United States
ATTACH;FMTTYPE=image/jpeg:https://loveincnwa.org/wp-content/uploads/2023/06/LoveINCAlleganCounty_Community-Events_Camp-of-Champs.jpg
END:VEVENT
END:VCALENDAR