BEGIN:VCALENDAR
VERSION:2.0
PRODID:-//Love INC of Allegan County - ECPv6.15.16//NONSGML v1.0//EN
CALSCALE:GREGORIAN
METHOD:PUBLISH
X-WR-CALNAME:Love INC of Allegan County
X-ORIGINAL-URL:https://loveincnwa.org
X-WR-CALDESC:Events for Love INC of Allegan County
REFRESH-INTERVAL;VALUE=DURATION:PT1H
X-Robots-Tag:noindex
X-PUBLISHED-TTL:PT1H
BEGIN:VTIMEZONE
TZID:UTC
BEGIN:STANDARD
TZOFFSETFROM:+0000
TZOFFSETTO:+0000
TZNAME:UTC
DTSTART:20220101T000000
END:STANDARD
END:VTIMEZONE
BEGIN:VEVENT
DTSTART;TZID=UTC:20240803T093000
DTEND;TZID=UTC:20240803T140000
DTSTAMP:20260423T051638
CREATED:20240711T141548Z
LAST-MODIFIED:20240711T141548Z
UID:10000705-1722677400-1722693600@loveincnwa.org
SUMMARY:Half Price Clothing Sale
DESCRIPTION:Be sure to stop into Heart to Heart Resale Store\, a ministry of Love In the Name of Christ this week for our half price clothing sale! Shop with us July 30\, 31\, or August 1 from 9:30am to 5pm or Saturday\, August 3 from 9:30am-2pm. All proceeds support the work we’re doing here at Love INC.
URL:https://loveincnwa.org/event/half-price-clothing-sale-2/2024-08-03/
LOCATION:Heart to Heart Resale Store\, 4621 135th Ave\, Hamilton\, MI\, 49419\, United States
ATTACH;FMTTYPE=image/png:https://loveincnwa.org/wp-content/uploads/2024/07/Half-price-clothing.png
END:VEVENT
BEGIN:VEVENT
DTSTART;TZID=UTC:20240803T093000
DTEND;TZID=UTC:20240803T140000
DTSTAMP:20260423T051638
CREATED:20231005T150954Z
LAST-MODIFIED:20240530T191630Z
UID:10000661-1722677400-1722693600@loveincnwa.org
SUMMARY:Heart to Heart First Saturday
DESCRIPTION:Shop the first Saturday of each month at our Heart to Heart Resale Store\, 9:30am-2pm. Follow us on Facebook to get updates on additional pop-up days for shopping and/or donations.
URL:https://loveincnwa.org/event/pop-up-heart-to-heart-resale-store-day/2024-08-03/
LOCATION:Heart to Heart Resale Store\, 4621 135th Ave\, Hamilton\, MI\, 49419\, United States
ATTACH;FMTTYPE=image/png:https://loveincnwa.org/wp-content/uploads/2023/10/Store-Facebook-Cover-Photo-6.png
END:VEVENT
BEGIN:VEVENT
DTSTART;TZID=UTC:20240801T093000
DTEND;TZID=UTC:20240801T170000
DTSTAMP:20260423T051638
CREATED:20240711T141548Z
LAST-MODIFIED:20240711T141548Z
UID:10000704-1722504600-1722531600@loveincnwa.org
SUMMARY:Half Price Clothing Sale
DESCRIPTION:Be sure to stop into Heart to Heart Resale Store\, a ministry of Love In the Name of Christ this week for our half price clothing sale! Shop with us July 30\, 31\, or August 1 from 9:30am to 5pm or Saturday\, August 3 from 9:30am-2pm. All proceeds support the work we’re doing here at Love INC.
URL:https://loveincnwa.org/event/half-price-clothing-sale-2/2024-08-01/
LOCATION:Heart to Heart Resale Store\, 4621 135th Ave\, Hamilton\, MI\, 49419\, United States
ATTACH;FMTTYPE=image/png:https://loveincnwa.org/wp-content/uploads/2024/07/Half-price-clothing.png
END:VEVENT
BEGIN:VEVENT
DTSTART;TZID=UTC:20240731T093000
DTEND;TZID=UTC:20240731T170000
DTSTAMP:20260423T051638
CREATED:20240711T141548Z
LAST-MODIFIED:20240711T141548Z
UID:10000703-1722418200-1722445200@loveincnwa.org
SUMMARY:Half Price Clothing Sale
DESCRIPTION:Be sure to stop into Heart to Heart Resale Store\, a ministry of Love In the Name of Christ this week for our half price clothing sale! Shop with us July 30\, 31\, or August 1 from 9:30am to 5pm or Saturday\, August 3 from 9:30am-2pm. All proceeds support the work we’re doing here at Love INC.
URL:https://loveincnwa.org/event/half-price-clothing-sale-2/2024-07-31/
LOCATION:Heart to Heart Resale Store\, 4621 135th Ave\, Hamilton\, MI\, 49419\, United States
ATTACH;FMTTYPE=image/png:https://loveincnwa.org/wp-content/uploads/2024/07/Half-price-clothing.png
END:VEVENT
BEGIN:VEVENT
DTSTART;TZID=UTC:20240730T093000
DTEND;TZID=UTC:20240730T170000
DTSTAMP:20260423T051638
CREATED:20240711T141548Z
LAST-MODIFIED:20240711T141548Z
UID:10000702-1722331800-1722358800@loveincnwa.org
SUMMARY:Half Price Clothing Sale
DESCRIPTION:Be sure to stop into Heart to Heart Resale Store\, a ministry of Love In the Name of Christ this week for our half price clothing sale! Shop with us July 30\, 31\, or August 1 from 9:30am to 5pm or Saturday\, August 3 from 9:30am-2pm. All proceeds support the work we’re doing here at Love INC.
URL:https://loveincnwa.org/event/half-price-clothing-sale-2/2024-07-30/
LOCATION:Heart to Heart Resale Store\, 4621 135th Ave\, Hamilton\, MI\, 49419\, United States
ATTACH;FMTTYPE=image/png:https://loveincnwa.org/wp-content/uploads/2024/07/Half-price-clothing.png
END:VEVENT
BEGIN:VEVENT
DTSTART;TZID=UTC:20240601T093000
DTEND;TZID=UTC:20240601T140000
DTSTAMP:20260423T051638
CREATED:20231005T150954Z
LAST-MODIFIED:20240530T191630Z
UID:10000659-1717234200-1717250400@loveincnwa.org
SUMMARY:Heart to Heart First Saturday
DESCRIPTION:Shop the first Saturday of each month at our Heart to Heart Resale Store\, 9:30am-2pm. Follow us on Facebook to get updates on additional pop-up days for shopping and/or donations.
URL:https://loveincnwa.org/event/pop-up-heart-to-heart-resale-store-day/2024-06-01/
LOCATION:Heart to Heart Resale Store\, 4621 135th Ave\, Hamilton\, MI\, 49419\, United States
ATTACH;FMTTYPE=image/png:https://loveincnwa.org/wp-content/uploads/2023/10/Store-Facebook-Cover-Photo-6.png
END:VEVENT
BEGIN:VEVENT
DTSTART;TZID=UTC:20240504T093000
DTEND;TZID=UTC:20240504T140000
DTSTAMP:20260423T051638
CREATED:20231005T150954Z
LAST-MODIFIED:20240530T191630Z
UID:10000658-1714815000-1714831200@loveincnwa.org
SUMMARY:Heart to Heart First Saturday
DESCRIPTION:Shop the first Saturday of each month at our Heart to Heart Resale Store\, 9:30am-2pm. Follow us on Facebook to get updates on additional pop-up days for shopping and/or donations.
URL:https://loveincnwa.org/event/pop-up-heart-to-heart-resale-store-day/2024-05-04/
LOCATION:Heart to Heart Resale Store\, 4621 135th Ave\, Hamilton\, MI\, 49419\, United States
ATTACH;FMTTYPE=image/png:https://loveincnwa.org/wp-content/uploads/2023/10/Store-Facebook-Cover-Photo-6.png
END:VEVENT
BEGIN:VEVENT
DTSTART;TZID=UTC:20240406T093000
DTEND;TZID=UTC:20240406T140000
DTSTAMP:20260423T051638
CREATED:20231005T150954Z
LAST-MODIFIED:20240530T191630Z
UID:10000657-1712395800-1712412000@loveincnwa.org
SUMMARY:Heart to Heart First Saturday
DESCRIPTION:Shop the first Saturday of each month at our Heart to Heart Resale Store\, 9:30am-2pm. Follow us on Facebook to get updates on additional pop-up days for shopping and/or donations.
URL:https://loveincnwa.org/event/pop-up-heart-to-heart-resale-store-day/2024-04-06/
LOCATION:Heart to Heart Resale Store\, 4621 135th Ave\, Hamilton\, MI\, 49419\, United States
ATTACH;FMTTYPE=image/png:https://loveincnwa.org/wp-content/uploads/2023/10/Store-Facebook-Cover-Photo-6.png
END:VEVENT
BEGIN:VEVENT
DTSTART;TZID=UTC:20240302T093000
DTEND;TZID=UTC:20240302T140000
DTSTAMP:20260423T051638
CREATED:20231005T150954Z
LAST-MODIFIED:20240530T191630Z
UID:10000656-1709371800-1709388000@loveincnwa.org
SUMMARY:Heart to Heart First Saturday
DESCRIPTION:Shop the first Saturday of each month at our Heart to Heart Resale Store\, 9:30am-2pm. Follow us on Facebook to get updates on additional pop-up days for shopping and/or donations.
URL:https://loveincnwa.org/event/pop-up-heart-to-heart-resale-store-day/2024-03-02/
LOCATION:Heart to Heart Resale Store\, 4621 135th Ave\, Hamilton\, MI\, 49419\, United States
ATTACH;FMTTYPE=image/png:https://loveincnwa.org/wp-content/uploads/2023/10/Store-Facebook-Cover-Photo-6.png
END:VEVENT
BEGIN:VEVENT
DTSTART;TZID=UTC:20240229T093000
DTEND;TZID=UTC:20240229T170000
DTSTAMP:20260423T051638
CREATED:20240201T204144Z
LAST-MODIFIED:20240201T204144Z
UID:10000230-1709199000-1709226000@loveincnwa.org
SUMMARY:Love Your Neighbor
DESCRIPTION:All proceeds from the Heart to Heart Resale Store help support the ministry of Love INC\, a network of 29 churches in Allegan County who partner together to serve our community. 11 of those 29 churches host various types of pantries that fill a gap in common community needs. \nThis February\, we invite you to “love your neighbor” by bringing some of the most frequently requested items from our pantries to the store for donation. Each donor can enter our drawing to win one of two $20 gift certificates to the Heart to Heart Resale Store. \nClick here to see a list of our most frequently requested items. Store hours are 9:30am-5pm\, Tuesday\, Wednesday and Thursday. We hope to see you there
URL:https://loveincnwa.org/event/love-your-neighbor/2024-02-29/
LOCATION:Heart to Heart Resale Store\, 4621 135th Ave\, Hamilton\, MI\, 49419\, United States
ATTACH;FMTTYPE=image/png:https://loveincnwa.org/wp-content/uploads/2024/02/Love-Your-Neighbor-Social-Posts-1.png
END:VEVENT
BEGIN:VEVENT
DTSTART;TZID=UTC:20240228T093000
DTEND;TZID=UTC:20240228T170000
DTSTAMP:20260423T051638
CREATED:20240201T204144Z
LAST-MODIFIED:20240201T204144Z
UID:10000229-1709112600-1709139600@loveincnwa.org
SUMMARY:Love Your Neighbor
DESCRIPTION:All proceeds from the Heart to Heart Resale Store help support the ministry of Love INC\, a network of 29 churches in Allegan County who partner together to serve our community. 11 of those 29 churches host various types of pantries that fill a gap in common community needs. \nThis February\, we invite you to “love your neighbor” by bringing some of the most frequently requested items from our pantries to the store for donation. Each donor can enter our drawing to win one of two $20 gift certificates to the Heart to Heart Resale Store. \nClick here to see a list of our most frequently requested items. Store hours are 9:30am-5pm\, Tuesday\, Wednesday and Thursday. We hope to see you there
URL:https://loveincnwa.org/event/love-your-neighbor/2024-02-28/
LOCATION:Heart to Heart Resale Store\, 4621 135th Ave\, Hamilton\, MI\, 49419\, United States
ATTACH;FMTTYPE=image/png:https://loveincnwa.org/wp-content/uploads/2024/02/Love-Your-Neighbor-Social-Posts-1.png
END:VEVENT
BEGIN:VEVENT
DTSTART;TZID=UTC:20240227T093000
DTEND;TZID=UTC:20240227T170000
DTSTAMP:20260423T051638
CREATED:20240201T204144Z
LAST-MODIFIED:20240201T204144Z
UID:10000228-1709026200-1709053200@loveincnwa.org
SUMMARY:Love Your Neighbor
DESCRIPTION:All proceeds from the Heart to Heart Resale Store help support the ministry of Love INC\, a network of 29 churches in Allegan County who partner together to serve our community. 11 of those 29 churches host various types of pantries that fill a gap in common community needs. \nThis February\, we invite you to “love your neighbor” by bringing some of the most frequently requested items from our pantries to the store for donation. Each donor can enter our drawing to win one of two $20 gift certificates to the Heart to Heart Resale Store. \nClick here to see a list of our most frequently requested items. Store hours are 9:30am-5pm\, Tuesday\, Wednesday and Thursday. We hope to see you there
URL:https://loveincnwa.org/event/love-your-neighbor/2024-02-27/
LOCATION:Heart to Heart Resale Store\, 4621 135th Ave\, Hamilton\, MI\, 49419\, United States
ATTACH;FMTTYPE=image/png:https://loveincnwa.org/wp-content/uploads/2024/02/Love-Your-Neighbor-Social-Posts-1.png
END:VEVENT
BEGIN:VEVENT
DTSTART;TZID=UTC:20240222T093000
DTEND;TZID=UTC:20240222T170000
DTSTAMP:20260423T051638
CREATED:20240201T204144Z
LAST-MODIFIED:20240201T204144Z
UID:10000227-1708594200-1708621200@loveincnwa.org
SUMMARY:Love Your Neighbor
DESCRIPTION:All proceeds from the Heart to Heart Resale Store help support the ministry of Love INC\, a network of 29 churches in Allegan County who partner together to serve our community. 11 of those 29 churches host various types of pantries that fill a gap in common community needs. \nThis February\, we invite you to “love your neighbor” by bringing some of the most frequently requested items from our pantries to the store for donation. Each donor can enter our drawing to win one of two $20 gift certificates to the Heart to Heart Resale Store. \nClick here to see a list of our most frequently requested items. Store hours are 9:30am-5pm\, Tuesday\, Wednesday and Thursday. We hope to see you there
URL:https://loveincnwa.org/event/love-your-neighbor/2024-02-22/
LOCATION:Heart to Heart Resale Store\, 4621 135th Ave\, Hamilton\, MI\, 49419\, United States
ATTACH;FMTTYPE=image/png:https://loveincnwa.org/wp-content/uploads/2024/02/Love-Your-Neighbor-Social-Posts-1.png
END:VEVENT
BEGIN:VEVENT
DTSTART;TZID=UTC:20240221T093000
DTEND;TZID=UTC:20240221T170000
DTSTAMP:20260423T051638
CREATED:20240201T204144Z
LAST-MODIFIED:20240201T204144Z
UID:10000226-1708507800-1708534800@loveincnwa.org
SUMMARY:Love Your Neighbor
DESCRIPTION:All proceeds from the Heart to Heart Resale Store help support the ministry of Love INC\, a network of 29 churches in Allegan County who partner together to serve our community. 11 of those 29 churches host various types of pantries that fill a gap in common community needs. \nThis February\, we invite you to “love your neighbor” by bringing some of the most frequently requested items from our pantries to the store for donation. Each donor can enter our drawing to win one of two $20 gift certificates to the Heart to Heart Resale Store. \nClick here to see a list of our most frequently requested items. Store hours are 9:30am-5pm\, Tuesday\, Wednesday and Thursday. We hope to see you there
URL:https://loveincnwa.org/event/love-your-neighbor/2024-02-21/
LOCATION:Heart to Heart Resale Store\, 4621 135th Ave\, Hamilton\, MI\, 49419\, United States
ATTACH;FMTTYPE=image/png:https://loveincnwa.org/wp-content/uploads/2024/02/Love-Your-Neighbor-Social-Posts-1.png
END:VEVENT
BEGIN:VEVENT
DTSTART;TZID=UTC:20240220T093000
DTEND;TZID=UTC:20240220T170000
DTSTAMP:20260423T051638
CREATED:20240201T204144Z
LAST-MODIFIED:20240201T204144Z
UID:10000225-1708421400-1708448400@loveincnwa.org
SUMMARY:Love Your Neighbor
DESCRIPTION:All proceeds from the Heart to Heart Resale Store help support the ministry of Love INC\, a network of 29 churches in Allegan County who partner together to serve our community. 11 of those 29 churches host various types of pantries that fill a gap in common community needs. \nThis February\, we invite you to “love your neighbor” by bringing some of the most frequently requested items from our pantries to the store for donation. Each donor can enter our drawing to win one of two $20 gift certificates to the Heart to Heart Resale Store. \nClick here to see a list of our most frequently requested items. Store hours are 9:30am-5pm\, Tuesday\, Wednesday and Thursday. We hope to see you there
URL:https://loveincnwa.org/event/love-your-neighbor/2024-02-20/
LOCATION:Heart to Heart Resale Store\, 4621 135th Ave\, Hamilton\, MI\, 49419\, United States
ATTACH;FMTTYPE=image/png:https://loveincnwa.org/wp-content/uploads/2024/02/Love-Your-Neighbor-Social-Posts-1.png
END:VEVENT
BEGIN:VEVENT
DTSTART;TZID=UTC:20240215T093000
DTEND;TZID=UTC:20240215T170000
DTSTAMP:20260423T051638
CREATED:20240201T204144Z
LAST-MODIFIED:20240201T204144Z
UID:10000224-1707989400-1708016400@loveincnwa.org
SUMMARY:Love Your Neighbor
DESCRIPTION:All proceeds from the Heart to Heart Resale Store help support the ministry of Love INC\, a network of 29 churches in Allegan County who partner together to serve our community. 11 of those 29 churches host various types of pantries that fill a gap in common community needs. \nThis February\, we invite you to “love your neighbor” by bringing some of the most frequently requested items from our pantries to the store for donation. Each donor can enter our drawing to win one of two $20 gift certificates to the Heart to Heart Resale Store. \nClick here to see a list of our most frequently requested items. Store hours are 9:30am-5pm\, Tuesday\, Wednesday and Thursday. We hope to see you there
URL:https://loveincnwa.org/event/love-your-neighbor/2024-02-15/
LOCATION:Heart to Heart Resale Store\, 4621 135th Ave\, Hamilton\, MI\, 49419\, United States
ATTACH;FMTTYPE=image/png:https://loveincnwa.org/wp-content/uploads/2024/02/Love-Your-Neighbor-Social-Posts-1.png
END:VEVENT
BEGIN:VEVENT
DTSTART;TZID=UTC:20240214T093000
DTEND;TZID=UTC:20240214T170000
DTSTAMP:20260423T051638
CREATED:20240201T204144Z
LAST-MODIFIED:20240201T204144Z
UID:10000223-1707903000-1707930000@loveincnwa.org
SUMMARY:Love Your Neighbor
DESCRIPTION:All proceeds from the Heart to Heart Resale Store help support the ministry of Love INC\, a network of 29 churches in Allegan County who partner together to serve our community. 11 of those 29 churches host various types of pantries that fill a gap in common community needs. \nThis February\, we invite you to “love your neighbor” by bringing some of the most frequently requested items from our pantries to the store for donation. Each donor can enter our drawing to win one of two $20 gift certificates to the Heart to Heart Resale Store. \nClick here to see a list of our most frequently requested items. Store hours are 9:30am-5pm\, Tuesday\, Wednesday and Thursday. We hope to see you there
URL:https://loveincnwa.org/event/love-your-neighbor/2024-02-14/
LOCATION:Heart to Heart Resale Store\, 4621 135th Ave\, Hamilton\, MI\, 49419\, United States
ATTACH;FMTTYPE=image/png:https://loveincnwa.org/wp-content/uploads/2024/02/Love-Your-Neighbor-Social-Posts-1.png
END:VEVENT
BEGIN:VEVENT
DTSTART;TZID=UTC:20240213T093000
DTEND;TZID=UTC:20240213T170000
DTSTAMP:20260423T051638
CREATED:20240201T204144Z
LAST-MODIFIED:20240201T204144Z
UID:10000222-1707816600-1707843600@loveincnwa.org
SUMMARY:Love Your Neighbor
DESCRIPTION:All proceeds from the Heart to Heart Resale Store help support the ministry of Love INC\, a network of 29 churches in Allegan County who partner together to serve our community. 11 of those 29 churches host various types of pantries that fill a gap in common community needs. \nThis February\, we invite you to “love your neighbor” by bringing some of the most frequently requested items from our pantries to the store for donation. Each donor can enter our drawing to win one of two $20 gift certificates to the Heart to Heart Resale Store. \nClick here to see a list of our most frequently requested items. Store hours are 9:30am-5pm\, Tuesday\, Wednesday and Thursday. We hope to see you there
URL:https://loveincnwa.org/event/love-your-neighbor/2024-02-13/
LOCATION:Heart to Heart Resale Store\, 4621 135th Ave\, Hamilton\, MI\, 49419\, United States
ATTACH;FMTTYPE=image/png:https://loveincnwa.org/wp-content/uploads/2024/02/Love-Your-Neighbor-Social-Posts-1.png
END:VEVENT
BEGIN:VEVENT
DTSTART;TZID=UTC:20240208T093000
DTEND;TZID=UTC:20240208T170000
DTSTAMP:20260423T051638
CREATED:20240201T204144Z
LAST-MODIFIED:20240201T204144Z
UID:10000221-1707384600-1707411600@loveincnwa.org
SUMMARY:Love Your Neighbor
DESCRIPTION:All proceeds from the Heart to Heart Resale Store help support the ministry of Love INC\, a network of 29 churches in Allegan County who partner together to serve our community. 11 of those 29 churches host various types of pantries that fill a gap in common community needs. \nThis February\, we invite you to “love your neighbor” by bringing some of the most frequently requested items from our pantries to the store for donation. Each donor can enter our drawing to win one of two $20 gift certificates to the Heart to Heart Resale Store. \nClick here to see a list of our most frequently requested items. Store hours are 9:30am-5pm\, Tuesday\, Wednesday and Thursday. We hope to see you there
URL:https://loveincnwa.org/event/love-your-neighbor/2024-02-08/
LOCATION:Heart to Heart Resale Store\, 4621 135th Ave\, Hamilton\, MI\, 49419\, United States
ATTACH;FMTTYPE=image/png:https://loveincnwa.org/wp-content/uploads/2024/02/Love-Your-Neighbor-Social-Posts-1.png
END:VEVENT
BEGIN:VEVENT
DTSTART;TZID=UTC:20240207T093000
DTEND;TZID=UTC:20240207T170000
DTSTAMP:20260423T051638
CREATED:20240201T204144Z
LAST-MODIFIED:20240201T204144Z
UID:10000220-1707298200-1707325200@loveincnwa.org
SUMMARY:Love Your Neighbor
DESCRIPTION:All proceeds from the Heart to Heart Resale Store help support the ministry of Love INC\, a network of 29 churches in Allegan County who partner together to serve our community. 11 of those 29 churches host various types of pantries that fill a gap in common community needs. \nThis February\, we invite you to “love your neighbor” by bringing some of the most frequently requested items from our pantries to the store for donation. Each donor can enter our drawing to win one of two $20 gift certificates to the Heart to Heart Resale Store. \nClick here to see a list of our most frequently requested items. Store hours are 9:30am-5pm\, Tuesday\, Wednesday and Thursday. We hope to see you there
URL:https://loveincnwa.org/event/love-your-neighbor/2024-02-07/
LOCATION:Heart to Heart Resale Store\, 4621 135th Ave\, Hamilton\, MI\, 49419\, United States
ATTACH;FMTTYPE=image/png:https://loveincnwa.org/wp-content/uploads/2024/02/Love-Your-Neighbor-Social-Posts-1.png
END:VEVENT
BEGIN:VEVENT
DTSTART;TZID=UTC:20240206T093000
DTEND;TZID=UTC:20240206T170000
DTSTAMP:20260423T051638
CREATED:20240201T204144Z
LAST-MODIFIED:20240201T204144Z
UID:10000219-1707211800-1707238800@loveincnwa.org
SUMMARY:Love Your Neighbor
DESCRIPTION:All proceeds from the Heart to Heart Resale Store help support the ministry of Love INC\, a network of 29 churches in Allegan County who partner together to serve our community. 11 of those 29 churches host various types of pantries that fill a gap in common community needs. \nThis February\, we invite you to “love your neighbor” by bringing some of the most frequently requested items from our pantries to the store for donation. Each donor can enter our drawing to win one of two $20 gift certificates to the Heart to Heart Resale Store. \nClick here to see a list of our most frequently requested items. Store hours are 9:30am-5pm\, Tuesday\, Wednesday and Thursday. We hope to see you there
URL:https://loveincnwa.org/event/love-your-neighbor/2024-02-06/
LOCATION:Heart to Heart Resale Store\, 4621 135th Ave\, Hamilton\, MI\, 49419\, United States
ATTACH;FMTTYPE=image/png:https://loveincnwa.org/wp-content/uploads/2024/02/Love-Your-Neighbor-Social-Posts-1.png
END:VEVENT
BEGIN:VEVENT
DTSTART;TZID=UTC:20240203T093000
DTEND;TZID=UTC:20240203T140000
DTSTAMP:20260423T051638
CREATED:20240201T204532Z
LAST-MODIFIED:20240201T204532Z
UID:10000231-1706952600-1706968800@loveincnwa.org
SUMMARY:Love Your Neighbor Kick Off
DESCRIPTION:We’re kicking off a “Love Your Neighbor” campaign with all proceeds from this Saturday’s sales going to our neighbors at Hungry For Christ Food Ministries . Hungry For Christ fulfills their mission of being God’s servants by helping those who are food insecure through a variety of programs. You can learn more about what they do at hungryforchrist.org!
URL:https://loveincnwa.org/event/love-your-neighbor-kick-off/
LOCATION:Heart to Heart Resale Store\, 4621 135th Ave\, Hamilton\, MI\, 49419\, United States
ATTACH;FMTTYPE=image/png:https://loveincnwa.org/wp-content/uploads/2024/02/Love-Your-Neighbor-Social-Posts.png
END:VEVENT
BEGIN:VEVENT
DTSTART;TZID=UTC:20240203T093000
DTEND;TZID=UTC:20240203T140000
DTSTAMP:20260423T051638
CREATED:20231005T150954Z
LAST-MODIFIED:20240530T191630Z
UID:10000655-1706952600-1706968800@loveincnwa.org
SUMMARY:Heart to Heart First Saturday
DESCRIPTION:Shop the first Saturday of each month at our Heart to Heart Resale Store\, 9:30am-2pm. Follow us on Facebook to get updates on additional pop-up days for shopping and/or donations.
URL:https://loveincnwa.org/event/pop-up-heart-to-heart-resale-store-day/2024-02-03/
LOCATION:Heart to Heart Resale Store\, 4621 135th Ave\, Hamilton\, MI\, 49419\, United States
ATTACH;FMTTYPE=image/png:https://loveincnwa.org/wp-content/uploads/2023/10/Store-Facebook-Cover-Photo-6.png
END:VEVENT
BEGIN:VEVENT
DTSTART;TZID=UTC:20240201T093000
DTEND;TZID=UTC:20240201T170000
DTSTAMP:20260423T051638
CREATED:20240201T204144Z
LAST-MODIFIED:20240201T204144Z
UID:10000218-1706779800-1706806800@loveincnwa.org
SUMMARY:Love Your Neighbor
DESCRIPTION:All proceeds from the Heart to Heart Resale Store help support the ministry of Love INC\, a network of 29 churches in Allegan County who partner together to serve our community. 11 of those 29 churches host various types of pantries that fill a gap in common community needs. \nThis February\, we invite you to “love your neighbor” by bringing some of the most frequently requested items from our pantries to the store for donation. Each donor can enter our drawing to win one of two $20 gift certificates to the Heart to Heart Resale Store. \nClick here to see a list of our most frequently requested items. Store hours are 9:30am-5pm\, Tuesday\, Wednesday and Thursday. We hope to see you there
URL:https://loveincnwa.org/event/love-your-neighbor/2024-02-01/
LOCATION:Heart to Heart Resale Store\, 4621 135th Ave\, Hamilton\, MI\, 49419\, United States
ATTACH;FMTTYPE=image/png:https://loveincnwa.org/wp-content/uploads/2024/02/Love-Your-Neighbor-Social-Posts-1.png
END:VEVENT
BEGIN:VEVENT
DTSTART;TZID=UTC:20240106T093000
DTEND;TZID=UTC:20240106T140000
DTSTAMP:20260423T051638
CREATED:20231005T150954Z
LAST-MODIFIED:20240530T191630Z
UID:10000654-1704533400-1704549600@loveincnwa.org
SUMMARY:Heart to Heart First Saturday
DESCRIPTION:Shop the first Saturday of each month at our Heart to Heart Resale Store\, 9:30am-2pm. Follow us on Facebook to get updates on additional pop-up days for shopping and/or donations.
URL:https://loveincnwa.org/event/pop-up-heart-to-heart-resale-store-day/2024-01-06/
LOCATION:Heart to Heart Resale Store\, 4621 135th Ave\, Hamilton\, MI\, 49419\, United States
ATTACH;FMTTYPE=image/png:https://loveincnwa.org/wp-content/uploads/2023/10/Store-Facebook-Cover-Photo-6.png
END:VEVENT
BEGIN:VEVENT
DTSTART;TZID=UTC:20231202T093000
DTEND;TZID=UTC:20231202T140000
DTSTAMP:20260423T051638
CREATED:20231005T150954Z
LAST-MODIFIED:20240530T191630Z
UID:10000168-1701509400-1701525600@loveincnwa.org
SUMMARY:Heart to Heart First Saturday
DESCRIPTION:Shop the first Saturday of each month at our Heart to Heart Resale Store\, 9:30am-2pm. Follow us on Facebook to get updates on additional pop-up days for shopping and/or donations.
URL:https://loveincnwa.org/event/pop-up-heart-to-heart-resale-store-day/2023-12-02/
LOCATION:Heart to Heart Resale Store\, 4621 135th Ave\, Hamilton\, MI\, 49419\, United States
ATTACH;FMTTYPE=image/png:https://loveincnwa.org/wp-content/uploads/2023/10/Store-Facebook-Cover-Photo-6.png
END:VEVENT
BEGIN:VEVENT
DTSTART;TZID=UTC:20231104T093000
DTEND;TZID=UTC:20231104T140000
DTSTAMP:20260423T051638
CREATED:20231005T150954Z
LAST-MODIFIED:20240530T191630Z
UID:10000167-1699090200-1699106400@loveincnwa.org
SUMMARY:Heart to Heart First Saturday
DESCRIPTION:Shop the first Saturday of each month at our Heart to Heart Resale Store\, 9:30am-2pm. Follow us on Facebook to get updates on additional pop-up days for shopping and/or donations.
URL:https://loveincnwa.org/event/pop-up-heart-to-heart-resale-store-day/2023-11-04/
LOCATION:Heart to Heart Resale Store\, 4621 135th Ave\, Hamilton\, MI\, 49419\, United States
ATTACH;FMTTYPE=image/png:https://loveincnwa.org/wp-content/uploads/2023/10/Store-Facebook-Cover-Photo-6.png
END:VEVENT
BEGIN:VEVENT
DTSTART;TZID=UTC:20231007T093000
DTEND;TZID=UTC:20231007T140000
DTSTAMP:20260423T051638
CREATED:20231005T150954Z
LAST-MODIFIED:20240530T191630Z
UID:10000166-1696671000-1696687200@loveincnwa.org
SUMMARY:Heart to Heart First Saturday
DESCRIPTION:Shop the first Saturday of each month at our Heart to Heart Resale Store\, 9:30am-2pm. Follow us on Facebook to get updates on additional pop-up days for shopping and/or donations.
URL:https://loveincnwa.org/event/pop-up-heart-to-heart-resale-store-day/2023-10-07/
LOCATION:Heart to Heart Resale Store\, 4621 135th Ave\, Hamilton\, MI\, 49419\, United States
ATTACH;FMTTYPE=image/png:https://loveincnwa.org/wp-content/uploads/2023/10/Store-Facebook-Cover-Photo-6.png
END:VEVENT
BEGIN:VEVENT
DTSTART;TZID=UTC:20230810T093000
DTEND;TZID=UTC:20230810T170000
DTSTAMP:20260423T051638
CREATED:20230727T185929Z
LAST-MODIFIED:20230727T185929Z
UID:10000119-1691659800-1691686800@loveincnwa.org
SUMMARY:$1 Clothing Sale
DESCRIPTION:Missed the sale last week at Heart to Heart Resale Store\, a ministry of Love In the Name of Christ ? Stop into the store this week for $1 clothing! Shop with us August 8\, 9\, or 10 from 9:30am to 5pm. All proceeds support the work we’re doing here at Love INC.
URL:https://loveincnwa.org/event/1-clothing-sale/2023-08-10/
LOCATION:Heart to Heart Resale Store\, 4621 135th Ave\, Hamilton\, MI\, 49419\, United States
ATTACH;FMTTYPE=image/png:https://loveincnwa.org/wp-content/uploads/2023/07/1-Dollar-Clothing.png
END:VEVENT
BEGIN:VEVENT
DTSTART;TZID=UTC:20230809T093000
DTEND;TZID=UTC:20230809T170000
DTSTAMP:20260423T051638
CREATED:20230727T185929Z
LAST-MODIFIED:20230727T185929Z
UID:10000118-1691573400-1691600400@loveincnwa.org
SUMMARY:$1 Clothing Sale
DESCRIPTION:Missed the sale last week at Heart to Heart Resale Store\, a ministry of Love In the Name of Christ ? Stop into the store this week for $1 clothing! Shop with us August 8\, 9\, or 10 from 9:30am to 5pm. All proceeds support the work we’re doing here at Love INC.
URL:https://loveincnwa.org/event/1-clothing-sale/2023-08-09/
LOCATION:Heart to Heart Resale Store\, 4621 135th Ave\, Hamilton\, MI\, 49419\, United States
ATTACH;FMTTYPE=image/png:https://loveincnwa.org/wp-content/uploads/2023/07/1-Dollar-Clothing.png
END:VEVENT
END:VCALENDAR