BEGIN:VCALENDAR
VERSION:2.0
PRODID:-//Love INC of Allegan County - ECPv6.15.16//NONSGML v1.0//EN
CALSCALE:GREGORIAN
METHOD:PUBLISH
X-WR-CALNAME:Love INC of Allegan County
X-ORIGINAL-URL:https://loveincnwa.org
X-WR-CALDESC:Events for Love INC of Allegan County
REFRESH-INTERVAL;VALUE=DURATION:PT1H
X-Robots-Tag:noindex
X-PUBLISHED-TTL:PT1H
BEGIN:VTIMEZONE
TZID:UTC
BEGIN:STANDARD
TZOFFSETFROM:+0000
TZOFFSETTO:+0000
TZNAME:UTC
DTSTART:20220101T000000
END:STANDARD
END:VTIMEZONE
BEGIN:VEVENT
DTSTART;TZID=UTC:20230923T120000
DTEND;TZID=UTC:20230923T180000
DTSTAMP:20260423T215612
CREATED:20230815T193916Z
LAST-MODIFIED:20230815T194509Z
UID:10000124-1695470400-1695492000@loveincnwa.org
SUMMARY:Family Funfest
DESCRIPTION:Grant Me Hope’s 8th Annual Family FunFest has:\n\nBig trucks from all over West Michigan! Some new\, some old\, but all BIG!\nUnique cars + motorcycles! Don’t miss it. Registration at 11 a.m. Sept. 23\, $20 per vehicle. Trophies awarded.\nNelis’ Dutch Village with fun rides and activities\, a petting zoo\, gorgeous flower beds and lots Dutch history\, exhibits\, demonstrations and performances!\nFood! We’ll serve a picnic meal inside Dutch Village starting at noon.\n\nFree will donation accepted at grantmehope.org/funfest\nEmail info@grantmehope.org for more information!
URL:https://loveincnwa.org/event/grant-me-hope-funfest/
LOCATION:Nelis’ Dutch Village\, 12350 James St\, Holland\, MI\, 49424\, United States
ATTACH;FMTTYPE=image/jpeg:https://loveincnwa.org/wp-content/uploads/2023/08/Grant-Me-Hope-FunFest.jpg
END:VEVENT
END:VCALENDAR